BEGIN:VCALENDAR
VERSION:2.0
PRODID:-//greencastlesportsman.com - ECPv6.3.5//NONSGML v1.0//EN
CALSCALE:GREGORIAN
METHOD:PUBLISH
X-WR-CALNAME:greencastlesportsman.com
X-ORIGINAL-URL:https://greencastlesportsman.com
X-WR-CALDESC:Events for greencastlesportsman.com
REFRESH-INTERVAL;VALUE=DURATION:PT1H
X-Robots-Tag:noindex
X-PUBLISHED-TTL:PT1H
BEGIN:VTIMEZONE
TZID:America/Detroit
BEGIN:DAYLIGHT
TZOFFSETFROM:-0500
TZOFFSETTO:-0400
TZNAME:EDT
DTSTART:20220313T070000
END:DAYLIGHT
BEGIN:STANDARD
TZOFFSETFROM:-0400
TZOFFSETTO:-0500
TZNAME:EST
DTSTART:20221106T060000
END:STANDARD
END:VTIMEZONE
BEGIN:VEVENT
DTSTART;TZID=America/Detroit:20220916T000000
DTEND;TZID=America/Detroit:20220916T233000
DTSTAMP:20260420T065155
CREATED:20220909T122901Z
LAST-MODIFIED:20220909T122901Z
UID:10001351-1663286400-1663371000@greencastlesportsman.com
SUMMARY:NO CATFISHING THIS WEEK LAKE CLOSED TO CATFISHING
DESCRIPTION:NO CATFISHING THIS WEEK \nFISHING WITH COPS (KIDS) SATURDAY 17th – CLOSED EVENT \nFALL CATFISH BRANNIGAN SATURDAY 17th – MEMBERS ONLY
URL:https://greencastlesportsman.com/event/no-catfishing-this-week-lake-closed-to-catfishing-2/2022-09-16/
LOCATION:LAKE
ATTACH;FMTTYPE=image/jpeg:https://greencastlesportsman.com/wp-content/uploads/2022/06/NO-CATFISHING-e1654262578963.jpg
ORGANIZER;CN="Harshman":MAILTO:info@greencastlesportsman.com
END:VEVENT
BEGIN:VEVENT
DTSTART;TZID=America/Detroit:20220915T000000
DTEND;TZID=America/Detroit:20220915T233000
DTSTAMP:20260420T065155
CREATED:20220909T122901Z
LAST-MODIFIED:20220909T122901Z
UID:10001350-1663200000-1663284600@greencastlesportsman.com
SUMMARY:NO CATFISHING THIS WEEK LAKE CLOSED TO CATFISHING
DESCRIPTION:NO CATFISHING THIS WEEK \nFISHING WITH COPS (KIDS) SATURDAY 17th – CLOSED EVENT \nFALL CATFISH BRANNIGAN SATURDAY 17th – MEMBERS ONLY
URL:https://greencastlesportsman.com/event/no-catfishing-this-week-lake-closed-to-catfishing-2/2022-09-15/
LOCATION:LAKE
ATTACH;FMTTYPE=image/jpeg:https://greencastlesportsman.com/wp-content/uploads/2022/06/NO-CATFISHING-e1654262578963.jpg
ORGANIZER;CN="Harshman":MAILTO:info@greencastlesportsman.com
END:VEVENT
BEGIN:VEVENT
DTSTART;TZID=America/Detroit:20220914T000000
DTEND;TZID=America/Detroit:20220914T233000
DTSTAMP:20260420T065155
CREATED:20220909T122901Z
LAST-MODIFIED:20220909T122901Z
UID:10001349-1663113600-1663198200@greencastlesportsman.com
SUMMARY:NO CATFISHING THIS WEEK LAKE CLOSED TO CATFISHING
DESCRIPTION:NO CATFISHING THIS WEEK \nFISHING WITH COPS (KIDS) SATURDAY 17th – CLOSED EVENT \nFALL CATFISH BRANNIGAN SATURDAY 17th – MEMBERS ONLY
URL:https://greencastlesportsman.com/event/no-catfishing-this-week-lake-closed-to-catfishing-2/2022-09-14/
LOCATION:LAKE
ATTACH;FMTTYPE=image/jpeg:https://greencastlesportsman.com/wp-content/uploads/2022/06/NO-CATFISHING-e1654262578963.jpg
ORGANIZER;CN="Harshman":MAILTO:info@greencastlesportsman.com
END:VEVENT
BEGIN:VEVENT
DTSTART;TZID=America/Detroit:20220913T080000
DTEND;TZID=America/Detroit:20220913T170000
DTSTAMP:20260420T065155
CREATED:20220505T125824Z
LAST-MODIFIED:20220505T125824Z
UID:10001717-1663056000-1663088400@greencastlesportsman.com
SUMMARY:FISHERY ENHANCEMENT CATCH AND RELEASE ONLY 2022
DESCRIPTION:FISHERY ENHANCEMENT\n** GOAL** Panel 2: Balanced pond.\nThis is the best situation for good fishing of both species. \nCATCH AND RELEASE ONLY – PANFISH – ALL BASS LARGER THAN 11″ – CATCH AND RELEASE ONLY \n\nThe first goal in the management of the fish population in any water body is to\nmatch the proper predator fish with the proper forage fish.\nOnce this is accomplished\, the object is to manage the forage fish population to produce large\nnumbers of young fish on which the predators can feed. \n\nResults of the fish population survey indicate that the fish population is what would\nbe classified as out of balance.  This the same situation that has occurred the last few years. \n\nIt appears that fishermen have been harvesting the larger bass\, 11”+\, from the lake.\nThese 11″+ bass are now protected from harvest and need to remain in the lake. \n\nContinuing to harvest these larger bass will have a continued negative impact on the overall fishery.\nThe predator fish must be maintained in larger numbers to prevent the forage fish from overpopulating.
URL:https://greencastlesportsman.com/event/panfish-enhancement-catch-and-release-only/2022-09-13/
ATTACH;FMTTYPE=image/png:https://greencastlesportsman.com/wp-content/uploads/2022/05/image018.png
END:VEVENT
BEGIN:VEVENT
DTSTART;TZID=America/Detroit:20220913T000000
DTEND;TZID=America/Detroit:20220913T233000
DTSTAMP:20260420T065155
CREATED:20220909T122901Z
LAST-MODIFIED:20220909T122901Z
UID:10001348-1663027200-1663111800@greencastlesportsman.com
SUMMARY:NO CATFISHING THIS WEEK LAKE CLOSED TO CATFISHING
DESCRIPTION:NO CATFISHING THIS WEEK \nFISHING WITH COPS (KIDS) SATURDAY 17th – CLOSED EVENT \nFALL CATFISH BRANNIGAN SATURDAY 17th – MEMBERS ONLY
URL:https://greencastlesportsman.com/event/no-catfishing-this-week-lake-closed-to-catfishing-2/2022-09-13/
LOCATION:LAKE
ATTACH;FMTTYPE=image/jpeg:https://greencastlesportsman.com/wp-content/uploads/2022/06/NO-CATFISHING-e1654262578963.jpg
ORGANIZER;CN="Harshman":MAILTO:info@greencastlesportsman.com
END:VEVENT
BEGIN:VEVENT
DTSTART;TZID=America/Detroit:20220912T160000
DTEND;TZID=America/Detroit:20220912T203000
DTSTAMP:20260420T065155
CREATED:20220302T153955Z
LAST-MODIFIED:20220317T121941Z
UID:10001668-1662998400-1663014600@greencastlesportsman.com
SUMMARY:MONDAY NIGHT 3D
DESCRIPTION:Monday night 3D shoots held weekly.\nCasual Registration 4:00-6:30\n15 Rhinehart Targets (2 shots per target)\nOpen to the public\, and all skill levels\nAdults $5\n12-17 $3\nUnder 11 free\nFood available
URL:https://greencastlesportsman.com/event/monday-night-3d/2022-09-12/
ATTACH;FMTTYPE=image/jpeg:https://greencastlesportsman.com/wp-content/uploads/2022/03/cheadhunters-3d-archery.jpg
END:VEVENT
BEGIN:VEVENT
DTSTART;TZID=America/Detroit:20220912T000000
DTEND;TZID=America/Detroit:20220912T233000
DTSTAMP:20260420T065155
CREATED:20220909T122901Z
LAST-MODIFIED:20220909T122901Z
UID:10001347-1662940800-1663025400@greencastlesportsman.com
SUMMARY:NO CATFISHING THIS WEEK LAKE CLOSED TO CATFISHING
DESCRIPTION:NO CATFISHING THIS WEEK \nFISHING WITH COPS (KIDS) SATURDAY 17th – CLOSED EVENT \nFALL CATFISH BRANNIGAN SATURDAY 17th – MEMBERS ONLY
URL:https://greencastlesportsman.com/event/no-catfishing-this-week-lake-closed-to-catfishing-2/2022-09-12/
LOCATION:LAKE
ATTACH;FMTTYPE=image/jpeg:https://greencastlesportsman.com/wp-content/uploads/2022/06/NO-CATFISHING-e1654262578963.jpg
ORGANIZER;CN="Harshman":MAILTO:info@greencastlesportsman.com
END:VEVENT
BEGIN:VEVENT
DTSTART;TZID=America/Detroit:20220911T000000
DTEND;TZID=America/Detroit:20220911T233000
DTSTAMP:20260420T065155
CREATED:20220909T122901Z
LAST-MODIFIED:20220909T122901Z
UID:10001346-1662854400-1662939000@greencastlesportsman.com
SUMMARY:NO CATFISHING THIS WEEK LAKE CLOSED TO CATFISHING
DESCRIPTION:NO CATFISHING THIS WEEK \nFISHING WITH COPS (KIDS) SATURDAY 17th – CLOSED EVENT \nFALL CATFISH BRANNIGAN SATURDAY 17th – MEMBERS ONLY
URL:https://greencastlesportsman.com/event/no-catfishing-this-week-lake-closed-to-catfishing-2/2022-09-11/
LOCATION:LAKE
ATTACH;FMTTYPE=image/jpeg:https://greencastlesportsman.com/wp-content/uploads/2022/06/NO-CATFISHING-e1654262578963.jpg
ORGANIZER;CN="Harshman":MAILTO:info@greencastlesportsman.com
END:VEVENT
BEGIN:VEVENT
DTSTART;TZID=America/Detroit:20220910T110000
DTEND;TZID=America/Detroit:20220910T150000
DTSTAMP:20260420T065155
CREATED:20220803T184538Z
LAST-MODIFIED:20220805T144515Z
UID:10001341-1662807600-1662822000@greencastlesportsman.com
SUMMARY:Pack 13 Cub Scouts Scout Recruitment
DESCRIPTION:Scout recruitment event in the area around the bandstand. \nOpen to the public to come and meet the Scouts and Leaders and to register new families for Scouting.
URL:https://greencastlesportsman.com/event/pending-pack-13-cub-scouts-scout-recruitment/
LOCATION:Sowell Pavilion @ Ox Roast Grounds
ATTACH;FMTTYPE=image/jpeg:https://greencastlesportsman.com/wp-content/uploads/2022/02/pack-13.jpg
END:VEVENT
BEGIN:VEVENT
DTSTART;TZID=America/Detroit:20220910T080000
DTEND;TZID=America/Detroit:20220910T120000
DTSTAMP:20260420T065155
CREATED:20220805T150110Z
LAST-MODIFIED:20220805T150110Z
UID:10001770-1662796800-1662811200@greencastlesportsman.com
SUMMARY:Rifle Range CLOSED  8am-12pm
DESCRIPTION:rifle range closed due to Campout
URL:https://greencastlesportsman.com/event/rifle-range-closed-8am-12pm/
LOCATION:Rifle Range
ATTACH;FMTTYPE=image/jpeg:https://greencastlesportsman.com/wp-content/uploads/2022/06/open-closed.jpg
ORGANIZER;CN="Jason Cotton":MAILTO:jacotton@crsemler.com
END:VEVENT
BEGIN:VEVENT
DTSTART;TZID=America/Detroit:20220909T180000
DTEND;TZID=America/Detroit:20220909T193000
DTSTAMP:20260420T065155
CREATED:20220926T132505Z
LAST-MODIFIED:20220926T132505Z
UID:10001355-1662746400-1662751800@greencastlesportsman.com
SUMMARY:Friday Evening Trap Practice
DESCRIPTION:Friday Evening Trap Practice – fees apply for clay birds  \nSingles –     $3.50 @ 25 targets \nHandicap-   $3.50 @ 25 targets \nDoubles-     $7.00 @ 50 targets \n* OPEN TO THE PUBLIC * \nshells are not available at this time – bring what you can find !! \nSTARTING TIME 6:00 PM \nAT THE GREENCASTLE SPORTSMEN’S CLUB \ncontact Joe Carbaugh @ 717.658.0265 or Matt Mohler @ 717.816.4326 with questions
URL:https://greencastlesportsman.com/event/friday-evening-trap-practice-2/2022-09-09/
LOCATION:The Clubhouse\, 3260 Sportsmans Rd\, Greencastle\, PA\, 17225\, United States
ATTACH;FMTTYPE=image/jpeg:https://greencastlesportsman.com/wp-content/uploads/2022/02/trap-practice.jpg
ORGANIZER;CN="Joe Carbaugh":MAILTO:1buckhunter@embarqmail.com
END:VEVENT
BEGIN:VEVENT
DTSTART;TZID=America/Detroit:20220909T173000
DTEND;TZID=America/Detroit:20220909T213000
DTSTAMP:20260420T065155
CREATED:20220904T165819Z
LAST-MODIFIED:20220904T165819Z
UID:10001777-1662744600-1662759000@greencastlesportsman.com
SUMMARY:Girl Scouts Troop 80161 Outdoor Badge
DESCRIPTION:Our Mission\nGirl Scouting builds girls of courage\, confidence\, and character\, who make the world a better place. \n\n\n\n\nGirl Scout Promise \nOn my honor\, I will try:\nTo serve God* and my country\,\nTo help people at all times\,\nAnd to live by the Girl Scout Law. \n\n\n\n\nGirl Scout Law\nI will do my best to be\n    honest and fair\,\nfriendly and helpful\,\nconsiderate and caring\,\ncourageous and strong\, and\nresponsible for what I say and do\,\nand to \nrespect myself and others\,\nrespect authority\,\nuse resources wisely\,\nmake the world a better place\, and\nbe a sister to every Girl Scout.
URL:https://greencastlesportsman.com/event/girl-scouts-troop-80161-outdoor-badge/2022-09-09/
LOCATION:GSA Horseshoe Complex\, 3260 Sportsmans Road\, Greencastle\, PA\, 17225
ATTACH;FMTTYPE=image/jpeg:https://greencastlesportsman.com/wp-content/uploads/2022/04/girl-scouts-give.jpg
ORGANIZER;CN="Harshman":MAILTO:info@greencastlesportsman.com
END:VEVENT
BEGIN:VEVENT
DTSTART;TZID=America/Detroit:20220905T160000
DTEND;TZID=America/Detroit:20220905T203000
DTSTAMP:20260420T065155
CREATED:20220302T153955Z
LAST-MODIFIED:20220317T121941Z
UID:10001667-1662393600-1662409800@greencastlesportsman.com
SUMMARY:MONDAY NIGHT 3D
DESCRIPTION:Monday night 3D shoots held weekly.\nCasual Registration 4:00-6:30\n15 Rhinehart Targets (2 shots per target)\nOpen to the public\, and all skill levels\nAdults $5\n12-17 $3\nUnder 11 free\nFood available
URL:https://greencastlesportsman.com/event/monday-night-3d/2022-09-05/
ATTACH;FMTTYPE=image/jpeg:https://greencastlesportsman.com/wp-content/uploads/2022/03/cheadhunters-3d-archery.jpg
END:VEVENT
BEGIN:VEVENT
DTSTART;TZID=America/Detroit:20220903T100000
DTEND;TZID=America/Detroit:20220903T200000
DTSTAMP:20260420T065155
CREATED:20220408T234747Z
LAST-MODIFIED:20220408T234747Z
UID:10001309-1662199200-1662235200@greencastlesportsman.com
SUMMARY:PRIVATE EVENT - CLUBHOUSE
DESCRIPTION:PRIVATE EVENT – CLUBHOUSE CLOSED \n10AM – 8PM
URL:https://greencastlesportsman.com/event/private-event-clubhouse/
LOCATION:The Clubhouse\, 3260 Sportsmans Rd\, Greencastle\, PA\, 17225\, United States
ATTACH;FMTTYPE=image/png:https://greencastlesportsman.com/wp-content/uploads/2021/10/private-event.png
ORGANIZER;CN="Joe Carbaugh":MAILTO:1buckhunter@embarqmail.com
END:VEVENT
BEGIN:VEVENT
DTSTART;TZID=America/Detroit:20220902T180000
DTEND;TZID=America/Detroit:20220902T193000
DTSTAMP:20260420T065155
CREATED:20220926T132505Z
LAST-MODIFIED:20220926T132505Z
UID:10001354-1662141600-1662147000@greencastlesportsman.com
SUMMARY:Friday Evening Trap Practice
DESCRIPTION:Friday Evening Trap Practice – fees apply for clay birds  \nSingles –     $3.50 @ 25 targets \nHandicap-   $3.50 @ 25 targets \nDoubles-     $7.00 @ 50 targets \n* OPEN TO THE PUBLIC * \nshells are not available at this time – bring what you can find !! \nSTARTING TIME 6:00 PM \nAT THE GREENCASTLE SPORTSMEN’S CLUB \ncontact Joe Carbaugh @ 717.658.0265 or Matt Mohler @ 717.816.4326 with questions
URL:https://greencastlesportsman.com/event/friday-evening-trap-practice-2/2022-09-02/
LOCATION:The Clubhouse\, 3260 Sportsmans Rd\, Greencastle\, PA\, 17225\, United States
ATTACH;FMTTYPE=image/jpeg:https://greencastlesportsman.com/wp-content/uploads/2022/02/trap-practice.jpg
ORGANIZER;CN="Joe Carbaugh":MAILTO:1buckhunter@embarqmail.com
END:VEVENT
BEGIN:VEVENT
DTSTART;TZID=America/Detroit:20220901T190000
DTEND;TZID=America/Detroit:20220901T210000
DTSTAMP:20260420T065155
CREATED:20210727T193206Z
LAST-MODIFIED:20211001T134653Z
UID:10001518-1662058800-1662066000@greencastlesportsman.com
SUMMARY:Board of Director's Meeting
DESCRIPTION:
URL:https://greencastlesportsman.com/event/oct-2021-bod-meeting/2022-09-01/
LOCATION:The Clubhouse\, 3260 Sportsmans Rd\, Greencastle\, PA\, 17225\, United States
ATTACH;FMTTYPE=image/jpeg:https://greencastlesportsman.com/wp-content/uploads/2021/07/MembersMeeting3-1-scaled.jpg
END:VEVENT
BEGIN:VEVENT
DTSTART;TZID=America/Detroit:20220901T080000
DTEND;TZID=America/Detroit:20220901T190000
DTSTAMP:20260420T065155
CREATED:20220902T134439Z
LAST-MODIFIED:20220902T134439Z
UID:10001775-1662019200-1662058800@greencastlesportsman.com
SUMMARY:Shooting Range Hours Through 10/15
DESCRIPTION:
URL:https://greencastlesportsman.com/event/shooting-range-hours-through-10-15/2022-09-01/
LOCATION:Rifle Range
ATTACH;FMTTYPE=image/jpeg:https://greencastlesportsman.com/wp-content/uploads/2022/05/download.jpg
END:VEVENT
BEGIN:VEVENT
DTSTART;TZID=America/Detroit:20220831T170000
DTEND;TZID=America/Detroit:20220831T213000
DTSTAMP:20260420T065155
CREATED:20220819T132325Z
LAST-MODIFIED:20220828T174842Z
UID:10001774-1661965200-1661981400@greencastlesportsman.com
SUMMARY:MEMBERS WORK PARTY  AUGUST CLEAN UP
DESCRIPTION:MEMBERS WORK PARTY TONIGHT\n\n\nAUGUST CLEAN UP AND SHUT DOWN\nSHOW UP AND SIGN IN\n\n\n\nFIRST YEAR MEMBERS\nCOMPLETE THE WORK REQUIREMENT TO MAINTAIN MEMBERSHIP INTO YEAR 2\n\n\n\n5pm-9:30pm(ish)
URL:https://greencastlesportsman.com/event/members-work-party-august-clean-up/
LOCATION:Ox Roast Grounds
ATTACH;FMTTYPE=image/jpeg:https://greencastlesportsman.com/wp-content/uploads/2022/08/CLEAN-UP-PARTY.jpg
END:VEVENT
BEGIN:VEVENT
DTSTART;TZID=America/Detroit:20220830T080000
DTEND;TZID=America/Detroit:20220830T170000
DTSTAMP:20260420T065155
CREATED:20220505T125824Z
LAST-MODIFIED:20220505T125824Z
UID:10001716-1661846400-1661878800@greencastlesportsman.com
SUMMARY:FISHERY ENHANCEMENT CATCH AND RELEASE ONLY 2022
DESCRIPTION:FISHERY ENHANCEMENT\n** GOAL** Panel 2: Balanced pond.\nThis is the best situation for good fishing of both species. \nCATCH AND RELEASE ONLY – PANFISH – ALL BASS LARGER THAN 11″ – CATCH AND RELEASE ONLY \n\nThe first goal in the management of the fish population in any water body is to\nmatch the proper predator fish with the proper forage fish.\nOnce this is accomplished\, the object is to manage the forage fish population to produce large\nnumbers of young fish on which the predators can feed. \n\nResults of the fish population survey indicate that the fish population is what would\nbe classified as out of balance.  This the same situation that has occurred the last few years. \n\nIt appears that fishermen have been harvesting the larger bass\, 11”+\, from the lake.\nThese 11″+ bass are now protected from harvest and need to remain in the lake. \n\nContinuing to harvest these larger bass will have a continued negative impact on the overall fishery.\nThe predator fish must be maintained in larger numbers to prevent the forage fish from overpopulating.
URL:https://greencastlesportsman.com/event/panfish-enhancement-catch-and-release-only/2022-08-30/
ATTACH;FMTTYPE=image/png:https://greencastlesportsman.com/wp-content/uploads/2022/05/image018.png
END:VEVENT
BEGIN:VEVENT
DTSTART;TZID=America/Detroit:20220829T160000
DTEND;TZID=America/Detroit:20220829T203000
DTSTAMP:20260420T065155
CREATED:20220302T153955Z
LAST-MODIFIED:20220317T121941Z
UID:10001666-1661788800-1661805000@greencastlesportsman.com
SUMMARY:MONDAY NIGHT 3D
DESCRIPTION:Monday night 3D shoots held weekly.\nCasual Registration 4:00-6:30\n15 Rhinehart Targets (2 shots per target)\nOpen to the public\, and all skill levels\nAdults $5\n12-17 $3\nUnder 11 free\nFood available
URL:https://greencastlesportsman.com/event/monday-night-3d/2022-08-29/
ATTACH;FMTTYPE=image/jpeg:https://greencastlesportsman.com/wp-content/uploads/2022/03/cheadhunters-3d-archery.jpg
END:VEVENT
BEGIN:VEVENT
DTSTART;TZID=America/Detroit:20220828T080000
DTEND;TZID=America/Detroit:20220828T110000
DTSTAMP:20260420T065155
CREATED:20220512T132842Z
LAST-MODIFIED:20220512T133411Z
UID:10001749-1661673600-1661684400@greencastlesportsman.com
SUMMARY:Rifle Range – 8am – 11am
DESCRIPTION:Hours \nJune\, July\, August – Weekends \nSaturday\n8:00 AM – 5:00 PM \nSunday\n8:00 AM – 11:00 AM
URL:https://greencastlesportsman.com/event/rifle-range-8am-11am/2022-08-28/
ATTACH;FMTTYPE=image/jpeg:https://greencastlesportsman.com/wp-content/uploads/2022/05/download.jpg
END:VEVENT
BEGIN:VEVENT
DTSTART;TZID=America/Detroit:20220827T100000
DTEND;TZID=America/Detroit:20220827T180000
DTSTAMP:20260420T065155
CREATED:20211113T161720Z
LAST-MODIFIED:20211113T161720Z
UID:10001617-1661594400-1661623200@greencastlesportsman.com
SUMMARY:MVFC + GSA GUN/CASH/PRIZE DRAWING
DESCRIPTION:MVFC + GSA GUN/CASH/PRIZE DRAWING\n\n\n\n\n\nAUGUST 27 2022 – GATES OPEN 10AM !!\n\n\n21+ AGE RESTRICTED
URL:https://greencastlesportsman.com/event/mvfc-gsa-gun-cash-prize-drawing/
LOCATION:Sowell Pavilion @ Ox Roast Grounds
ATTACH;FMTTYPE=image/jpeg:https://greencastlesportsman.com/wp-content/uploads/2021/11/Gun-Raffle-Logo.jpg
END:VEVENT
BEGIN:VEVENT
DTSTART;TZID=America/Detroit:20220826T170000
DTEND;TZID=America/Detroit:20220827T180000
DTSTAMP:20260420T065155
CREATED:20220721T152855Z
LAST-MODIFIED:20220819T130619Z
UID:10001338-1661533200-1661623200@greencastlesportsman.com
SUMMARY:NON MVFC DRAWING ACTIVITIES PROHIBITED
DESCRIPTION:MEMBERS – activities unrelated to the MVFC DRAWING are suspended as of 1200 noon Friday through midnight Saturday 0000 – no shooting\, no fishing\, no hiking\, no camping – all on site members are to be working toward another successful FUNDRAISER
URL:https://greencastlesportsman.com/event/non-mvfc-drawing-activities-prohibited/
ATTACH;FMTTYPE=image/jpeg:https://greencastlesportsman.com/wp-content/uploads/2022/07/restricted-area-ox-roast.jpg
END:VEVENT
BEGIN:VEVENT
DTSTART;TZID=America/Detroit:20220825T173000
DTEND;TZID=America/Detroit:20220825T210000
DTSTAMP:20260420T065155
CREATED:20220819T131619Z
LAST-MODIFIED:20220823T133702Z
UID:10001773-1661448600-1661461200@greencastlesportsman.com
SUMMARY:MEMBERS WORK PARTY  GUN DRAWING
DESCRIPTION:MEMBERS WORK PARTY TONIGHT\n\n\nGUN DRAWING PREP – SHOW UP AND SIGN IN\n\n\n\nFIRST YEAR MEMBERS\nCOMPLETE THE WORK REQUIREMENT TO MAINTAIN MEMBERSHIP INTO YEAR 2\n\n\n\n5:30pm-9:30pm(ish)
URL:https://greencastlesportsman.com/event/members-work-party-gun-drawing/
LOCATION:Ox Roast Grounds
ATTACH;FMTTYPE=image/jpeg:https://greencastlesportsman.com/wp-content/uploads/2022/08/WORK-PARTY.jpg
END:VEVENT
BEGIN:VEVENT
DTSTART;TZID=America/Detroit:20220822T160000
DTEND;TZID=America/Detroit:20220822T203000
DTSTAMP:20260420T065155
CREATED:20220302T153955Z
LAST-MODIFIED:20220317T121941Z
UID:10001665-1661184000-1661200200@greencastlesportsman.com
SUMMARY:MONDAY NIGHT 3D
DESCRIPTION:Monday night 3D shoots held weekly.\nCasual Registration 4:00-6:30\n15 Rhinehart Targets (2 shots per target)\nOpen to the public\, and all skill levels\nAdults $5\n12-17 $3\nUnder 11 free\nFood available
URL:https://greencastlesportsman.com/event/monday-night-3d/2022-08-22/
ATTACH;FMTTYPE=image/jpeg:https://greencastlesportsman.com/wp-content/uploads/2022/03/cheadhunters-3d-archery.jpg
END:VEVENT
BEGIN:VEVENT
DTSTART;TZID=America/Detroit:20220821T080000
DTEND;TZID=America/Detroit:20220821T110000
DTSTAMP:20260420T065155
CREATED:20220512T132842Z
LAST-MODIFIED:20220512T133411Z
UID:10001748-1661068800-1661079600@greencastlesportsman.com
SUMMARY:Rifle Range – 8am – 11am
DESCRIPTION:Hours \nJune\, July\, August – Weekends \nSaturday\n8:00 AM – 5:00 PM \nSunday\n8:00 AM – 11:00 AM
URL:https://greencastlesportsman.com/event/rifle-range-8am-11am/2022-08-21/
ATTACH;FMTTYPE=image/jpeg:https://greencastlesportsman.com/wp-content/uploads/2022/05/download.jpg
END:VEVENT
BEGIN:VEVENT
DTSTART;TZID=America/Detroit:20220820T080000
DTEND;TZID=America/Detroit:20220820T170000
DTSTAMP:20260420T065155
CREATED:20220512T131651Z
LAST-MODIFIED:20220527T123811Z
UID:10001736-1660982400-1661014800@greencastlesportsman.com
SUMMARY:Rifle Range - 8am - 5pm
DESCRIPTION:Hours \nJune\, July\, August – Weekends \nSaturday\n8:00 AM – 5:00 PM \nSunday\n8:00 AM – 11:00 AM
URL:https://greencastlesportsman.com/event/rifle-range-8am-5pm/2022-08-20/
ATTACH;FMTTYPE=image/jpeg:https://greencastlesportsman.com/wp-content/uploads/2022/05/download.jpg
END:VEVENT
BEGIN:VEVENT
DTSTART;TZID=America/Detroit:20220820T080000
DTEND;TZID=America/Detroit:20220820T160000
DTSTAMP:20260420T065155
CREATED:20211113T155941Z
LAST-MODIFIED:20220302T134324Z
UID:10001615-1660982400-1661011200@greencastlesportsman.com
SUMMARY:BIG INDOOR/OUTDOOR SPORTSMAN SHOW IZAAK WALTON LEAGUE FRANKLIN CO. PA
DESCRIPTION:GUN SHOW \nSPONSOR: FRANKLIN CO. PA CHAPTER\, IZAAK WALTON LEAGUE AMERICA-501C (3) Non-Profit \nHOURS 8:00 AM – 4:00 PM \nMODERN\, VINTAGE & COLLECTIBLE FIREARMS AMMO- SCOPES- \nRELOADING-ARCHERY-FISHING-HUNTING/SHOOTING ACCESSORIES-BLACKPOWDER \nALL LEGAL FIREARMS (Handguns too) WELCOME-PRIVATE INDIVIDUALS & FFL LICENSED DEALERS \nADMISSION $5.00 DONATION PER PERSON (KIDS 12 & under FREE) \nWHERE (NEW VENUE): GREENCASTLE SPORTSMAN’S ASSOCIATION CLUB \nFULL-SERVICE KITCHEN W/PLENTY OF GOOD FOOD & BEVERAGES (GSA STAFF) \nFREE PARKING/INSIDE MODERN REST ROOMS \n8 FT. TABLES INSIDE THE LARGE TEMPERATURE CONTROLLED BUILDING \n(Note: Free admission to anyone who joins the NRA on show day) \nFOR EXHIBIT SPACE INFORMATION/RATES\, RESERVATIONS\, QUESTIONS\,  \nPhone\, text or email: CRAIG MINNICH-717-977-9240;  rcminnich@hotmail.com. \n(NO FLEA MARKET ITEMS\, JEWELRY\, BEEF JERKY\, ETC. PERMITTED)
URL:https://greencastlesportsman.com/event/big-indoor-outdoor-sportsman-show-izaak-walton-league-franklin-co-pa/
ATTACH;FMTTYPE=image/jpeg:https://greencastlesportsman.com/wp-content/uploads/2021/11/7820627-logo-e1646228285641.jpg
END:VEVENT
BEGIN:VEVENT
DTSTART;TZID=America/Detroit:20220816T080000
DTEND;TZID=America/Detroit:20220816T170000
DTSTAMP:20260420T065155
CREATED:20220505T125824Z
LAST-MODIFIED:20220505T125824Z
UID:10001715-1660636800-1660669200@greencastlesportsman.com
SUMMARY:FISHERY ENHANCEMENT CATCH AND RELEASE ONLY 2022
DESCRIPTION:FISHERY ENHANCEMENT\n** GOAL** Panel 2: Balanced pond.\nThis is the best situation for good fishing of both species. \nCATCH AND RELEASE ONLY – PANFISH – ALL BASS LARGER THAN 11″ – CATCH AND RELEASE ONLY \n\nThe first goal in the management of the fish population in any water body is to\nmatch the proper predator fish with the proper forage fish.\nOnce this is accomplished\, the object is to manage the forage fish population to produce large\nnumbers of young fish on which the predators can feed. \n\nResults of the fish population survey indicate that the fish population is what would\nbe classified as out of balance.  This the same situation that has occurred the last few years. \n\nIt appears that fishermen have been harvesting the larger bass\, 11”+\, from the lake.\nThese 11″+ bass are now protected from harvest and need to remain in the lake. \n\nContinuing to harvest these larger bass will have a continued negative impact on the overall fishery.\nThe predator fish must be maintained in larger numbers to prevent the forage fish from overpopulating.
URL:https://greencastlesportsman.com/event/panfish-enhancement-catch-and-release-only/2022-08-16/
ATTACH;FMTTYPE=image/png:https://greencastlesportsman.com/wp-content/uploads/2022/05/image018.png
END:VEVENT
BEGIN:VEVENT
DTSTART;TZID=America/Detroit:20220815T180000
DTEND;TZID=America/Detroit:20220815T210000
DTSTAMP:20260420T065155
CREATED:20220218T140610Z
LAST-MODIFIED:20220405T132418Z
UID:10001271-1660586400-1660597200@greencastlesportsman.com
SUMMARY:Monday Evening Trap Practice
DESCRIPTION:Monday Eve Trap Practice – fees apply for clay birds  \n                Singles –     $3.50 @ 25 targets \n                Handicap-   $3.50 @ 25 targets \n                Doubles-     $7.00 @ 50 targets \n* OPEN TO THE PUBLIC * \n\n                shells are not available at this time – bring what you can find !! \nSTARTING TIME 6:00 PM \nAT THE GREENCASTLE SPORTSMEN’S CLUB \ncontact Joe Carbaugh @ 717.658.0265 or Matt Mohler @ 717.816.4326 with questions
URL:https://greencastlesportsman.com/event/2476/2022-08-15/
LOCATION:The Clubhouse\, 3260 Sportsmans Rd\, Greencastle\, PA\, 17225\, United States
ATTACH;FMTTYPE=image/jpeg:https://greencastlesportsman.com/wp-content/uploads/2022/02/trap-practice.jpg
ORGANIZER;CN="Joe Carbaugh":MAILTO:1buckhunter@embarqmail.com
END:VEVENT
END:VCALENDAR