BEGIN:VCALENDAR
VERSION:2.0
PRODID:-//greencastlesportsman.com - ECPv6.3.5//NONSGML v1.0//EN
CALSCALE:GREGORIAN
METHOD:PUBLISH
X-WR-CALNAME:greencastlesportsman.com
X-ORIGINAL-URL:https://greencastlesportsman.com
X-WR-CALDESC:Events for greencastlesportsman.com
REFRESH-INTERVAL;VALUE=DURATION:PT1H
X-Robots-Tag:noindex
X-PUBLISHED-TTL:PT1H
BEGIN:VTIMEZONE
TZID:America/Detroit
BEGIN:DAYLIGHT
TZOFFSETFROM:-0500
TZOFFSETTO:-0400
TZNAME:EDT
DTSTART:20220313T070000
END:DAYLIGHT
BEGIN:STANDARD
TZOFFSETFROM:-0400
TZOFFSETTO:-0500
TZNAME:EST
DTSTART:20221106T060000
END:STANDARD
END:VTIMEZONE
BEGIN:VEVENT
DTSTART;TZID=America/Detroit:20220820T080000
DTEND;TZID=America/Detroit:20220820T160000
DTSTAMP:20260420T110557
CREATED:20211113T155941Z
LAST-MODIFIED:20220302T134324Z
UID:10001615-1660982400-1661011200@greencastlesportsman.com
SUMMARY:BIG INDOOR/OUTDOOR SPORTSMAN SHOW IZAAK WALTON LEAGUE FRANKLIN CO. PA
DESCRIPTION:GUN SHOW \nSPONSOR: FRANKLIN CO. PA CHAPTER\, IZAAK WALTON LEAGUE AMERICA-501C (3) Non-Profit \nHOURS 8:00 AM – 4:00 PM \nMODERN\, VINTAGE & COLLECTIBLE FIREARMS AMMO- SCOPES- \nRELOADING-ARCHERY-FISHING-HUNTING/SHOOTING ACCESSORIES-BLACKPOWDER \nALL LEGAL FIREARMS (Handguns too) WELCOME-PRIVATE INDIVIDUALS & FFL LICENSED DEALERS \nADMISSION $5.00 DONATION PER PERSON (KIDS 12 & under FREE) \nWHERE (NEW VENUE): GREENCASTLE SPORTSMAN’S ASSOCIATION CLUB \nFULL-SERVICE KITCHEN W/PLENTY OF GOOD FOOD & BEVERAGES (GSA STAFF) \nFREE PARKING/INSIDE MODERN REST ROOMS \n8 FT. TABLES INSIDE THE LARGE TEMPERATURE CONTROLLED BUILDING \n(Note: Free admission to anyone who joins the NRA on show day) \nFOR EXHIBIT SPACE INFORMATION/RATES\, RESERVATIONS\, QUESTIONS\,  \nPhone\, text or email: CRAIG MINNICH-717-977-9240;  rcminnich@hotmail.com. \n(NO FLEA MARKET ITEMS\, JEWELRY\, BEEF JERKY\, ETC. PERMITTED)
URL:https://greencastlesportsman.com/event/big-indoor-outdoor-sportsman-show-izaak-walton-league-franklin-co-pa/
ATTACH;FMTTYPE=image/jpeg:https://greencastlesportsman.com/wp-content/uploads/2021/11/7820627-logo-e1646228285641.jpg
END:VEVENT
BEGIN:VEVENT
DTSTART;TZID=America/Detroit:20220816T080000
DTEND;TZID=America/Detroit:20220816T170000
DTSTAMP:20260420T110557
CREATED:20220505T125824Z
LAST-MODIFIED:20220505T125824Z
UID:10001715-1660636800-1660669200@greencastlesportsman.com
SUMMARY:FISHERY ENHANCEMENT CATCH AND RELEASE ONLY 2022
DESCRIPTION:FISHERY ENHANCEMENT\n** GOAL** Panel 2: Balanced pond.\nThis is the best situation for good fishing of both species. \nCATCH AND RELEASE ONLY – PANFISH – ALL BASS LARGER THAN 11″ – CATCH AND RELEASE ONLY \n\nThe first goal in the management of the fish population in any water body is to\nmatch the proper predator fish with the proper forage fish.\nOnce this is accomplished\, the object is to manage the forage fish population to produce large\nnumbers of young fish on which the predators can feed. \n\nResults of the fish population survey indicate that the fish population is what would\nbe classified as out of balance.  This the same situation that has occurred the last few years. \n\nIt appears that fishermen have been harvesting the larger bass\, 11”+\, from the lake.\nThese 11″+ bass are now protected from harvest and need to remain in the lake. \n\nContinuing to harvest these larger bass will have a continued negative impact on the overall fishery.\nThe predator fish must be maintained in larger numbers to prevent the forage fish from overpopulating.
URL:https://greencastlesportsman.com/event/panfish-enhancement-catch-and-release-only/2022-08-16/
ATTACH;FMTTYPE=image/png:https://greencastlesportsman.com/wp-content/uploads/2022/05/image018.png
END:VEVENT
BEGIN:VEVENT
DTSTART;TZID=America/Detroit:20220815T180000
DTEND;TZID=America/Detroit:20220815T210000
DTSTAMP:20260420T110557
CREATED:20220218T140610Z
LAST-MODIFIED:20220405T132418Z
UID:10001271-1660586400-1660597200@greencastlesportsman.com
SUMMARY:Monday Evening Trap Practice
DESCRIPTION:Monday Eve Trap Practice – fees apply for clay birds  \n                Singles –     $3.50 @ 25 targets \n                Handicap-   $3.50 @ 25 targets \n                Doubles-     $7.00 @ 50 targets \n* OPEN TO THE PUBLIC * \n\n                shells are not available at this time – bring what you can find !! \nSTARTING TIME 6:00 PM \nAT THE GREENCASTLE SPORTSMEN’S CLUB \ncontact Joe Carbaugh @ 717.658.0265 or Matt Mohler @ 717.816.4326 with questions
URL:https://greencastlesportsman.com/event/2476/2022-08-15/
LOCATION:The Clubhouse\, 3260 Sportsmans Rd\, Greencastle\, PA\, 17225\, United States
ATTACH;FMTTYPE=image/jpeg:https://greencastlesportsman.com/wp-content/uploads/2022/02/trap-practice.jpg
ORGANIZER;CN="Joe Carbaugh":MAILTO:1buckhunter@embarqmail.com
END:VEVENT
BEGIN:VEVENT
DTSTART;TZID=America/Detroit:20220815T160000
DTEND;TZID=America/Detroit:20220815T203000
DTSTAMP:20260420T110557
CREATED:20220302T153955Z
LAST-MODIFIED:20220317T121941Z
UID:10001664-1660579200-1660595400@greencastlesportsman.com
SUMMARY:MONDAY NIGHT 3D
DESCRIPTION:Monday night 3D shoots held weekly.\nCasual Registration 4:00-6:30\n15 Rhinehart Targets (2 shots per target)\nOpen to the public\, and all skill levels\nAdults $5\n12-17 $3\nUnder 11 free\nFood available
URL:https://greencastlesportsman.com/event/monday-night-3d/2022-08-15/
ATTACH;FMTTYPE=image/jpeg:https://greencastlesportsman.com/wp-content/uploads/2022/03/cheadhunters-3d-archery.jpg
END:VEVENT
BEGIN:VEVENT
DTSTART;TZID=America/Detroit:20220814T120000
DTEND;TZID=America/Detroit:20220814T180000
DTSTAMP:20260420T110557
CREATED:20220711T135355Z
LAST-MODIFIED:20220711T135355Z
UID:10001765-1660478400-1660500000@greencastlesportsman.com
SUMMARY:YOUTH MINISTRY @ LAKE PAVILION
DESCRIPTION:post jig float fellowship and cookout
URL:https://greencastlesportsman.com/event/youth-ministry-lake-pavilion/
LOCATION:Lake Pavilion
ATTACH;FMTTYPE=image/png:https://greencastlesportsman.com/wp-content/uploads/2022/07/Youth-Ministry.png
END:VEVENT
BEGIN:VEVENT
DTSTART;TZID=America/Detroit:20220814T103000
DTEND;TZID=America/Detroit:20220814T190000
DTSTAMP:20260420T110557
CREATED:20220516T150349Z
LAST-MODIFIED:20220711T134749Z
UID:10001314-1660473000-1660503600@greencastlesportsman.com
SUMMARY:GSA Horseshoe TournamentPARTNER DRAW **open to public**
DESCRIPTION:All Tournaments – Round Robin A&B Brackets \nRandom Partner Draw each Bracket \n$20.00 Entry Fee – Registration by 11am \nShoes Fly @ Noon \n$5.00 Random Round Robin afterwards (time permitting) \n50/50 drawing\, Pull Tabs \, Horseshoe Raffle \nFood\, Water\, Soda and Gatorade all day starting by 11:30 \nBYOB\, Shoes\, Canopies\, Chairs \n**Formats and Pay Outs subject to change depending on number of entries**
URL:https://greencastlesportsman.com/event/gsa-horseshoe-tournament-open-to-public-2022-08-13/
LOCATION:GSA Horseshoe Complex\, 3260 Sportsmans Road\, Greencastle\, PA\, 17225
ATTACH;FMTTYPE=image/jpeg:https://greencastlesportsman.com/wp-content/uploads/2022/05/Activity-Seals-02-e1652713177592.jpg
ORGANIZER;CN="Greg Reasner":MAILTO:horseshoe@greencastlesportsman.com
END:VEVENT
BEGIN:VEVENT
DTSTART;TZID=America/Detroit:20220814T080000
DTEND;TZID=America/Detroit:20220814T110000
DTSTAMP:20260420T110557
CREATED:20220512T132842Z
LAST-MODIFIED:20220512T133411Z
UID:10001747-1660464000-1660474800@greencastlesportsman.com
SUMMARY:Rifle Range – 8am – 11am
DESCRIPTION:Hours \nJune\, July\, August – Weekends \nSaturday\n8:00 AM – 5:00 PM \nSunday\n8:00 AM – 11:00 AM
URL:https://greencastlesportsman.com/event/rifle-range-8am-11am/2022-08-14/
ATTACH;FMTTYPE=image/jpeg:https://greencastlesportsman.com/wp-content/uploads/2022/05/download.jpg
END:VEVENT
BEGIN:VEVENT
DTSTART;TZID=America/Detroit:20220813T173000
DTEND;TZID=America/Detroit:20220813T203000
DTSTAMP:20260420T110557
CREATED:20220131T152626Z
LAST-MODIFIED:20220131T152626Z
UID:10001650-1660411800-1660422600@greencastlesportsman.com
SUMMARY:KENTON SITCH BAND @ OX ROAST
DESCRIPTION:Kenton Sitch Band – https://kentonsitchband.com/ \nWhat do you get when you combine backgrounds of music education\, extensive touring experience and national radio promotion? Nashville recording artists\, the Kenton Sitch Band. \nRising out of the dust of one of the smallest towns in southern Pennsylvania\, born from the most unlikely against all odds and now promoted by Kinkade Entertainment\, the Kenton Sitch Band features members from all across the north-east region that found each other searching for the same things\, an awesome plan and great country music! \nThe Kenton Sitch Band boasts countless years of live performance experience bringing you the very best of their original flavor while playing all of the hottest current country radio favorites. Be sure to catch the KSB at a venue near you\, a show you won’t want to miss! New EP now available featuring “Lover and a Fighter”.
URL:https://greencastlesportsman.com/event/kenton-sitch-band-ox-roast/
LOCATION:Sowell Pavilion @ Ox Roast Grounds
ATTACH;FMTTYPE=image/jpeg:https://greencastlesportsman.com/wp-content/uploads/2022/01/KSB-@-OX-ROAST.jpg
END:VEVENT
BEGIN:VEVENT
DTSTART;TZID=America/Detroit:20220813T120000
DTEND;TZID=America/Detroit:20220813T210000
DTSTAMP:20260420T110557
CREATED:20211113T160845Z
LAST-MODIFIED:20220711T155217Z
UID:10001616-1660392000-1660424400@greencastlesportsman.com
SUMMARY:OX ROAST @ GSA
DESCRIPTION:Saturday AUGUST 13 12pm – 9pm\n\n\n\nLUNCH(DINNER) DINNER(SUPPER) OR BOTH !!!\n\nKenton Sitch – AUGUST 13 – 5:30pm – 8:30pm\n\n\n\n\n\nHOT OX SANDWICH – GROUND/SLICED\n\n\nFRIED COUNTRY HAM SANDWICH\n\n\nSOUP / HOT DOG\n\n\nFRENCH FRIES & RIBBON FRIES\n\n\nKETTLE CORN / SNOW CONE / COTTON CANDY\n\n\nWATER / SODA / COFFEE + MORE IN THE WORKS
URL:https://greencastlesportsman.com/event/annual-ox-roast-2022-08-13/
ATTACH;FMTTYPE=image/jpeg:https://greencastlesportsman.com/wp-content/uploads/2021/11/ox-2-w2.jpg
END:VEVENT
BEGIN:VEVENT
DTSTART;TZID=America/Detroit:20220813T080000
DTEND;TZID=America/Detroit:20220813T170000
DTSTAMP:20260420T110557
CREATED:20220512T131651Z
LAST-MODIFIED:20220527T123811Z
UID:10001735-1660377600-1660410000@greencastlesportsman.com
SUMMARY:Rifle Range - 8am - 5pm
DESCRIPTION:Hours \nJune\, July\, August – Weekends \nSaturday\n8:00 AM – 5:00 PM \nSunday\n8:00 AM – 11:00 AM
URL:https://greencastlesportsman.com/event/rifle-range-8am-5pm/2022-08-13/
ATTACH;FMTTYPE=image/jpeg:https://greencastlesportsman.com/wp-content/uploads/2022/05/download.jpg
END:VEVENT
BEGIN:VEVENT
DTSTART;TZID=America/Detroit:20220812T173000
DTEND;TZID=America/Detroit:20220812T213000
DTSTAMP:20260420T110557
CREATED:20220711T160349Z
LAST-MODIFIED:20220711T160349Z
UID:10001335-1660325400-1660339800@greencastlesportsman.com
SUMMARY:MEMBERS WORK PARTY - OX ROAST
DESCRIPTION:MEMBERS WORK PARTY TONIGHT\n\n\nOX ROAST PREP – SHOW UP AND SIGN IN\n\n\n\nFIRST YEAR MEMBERS\nCOMPLETE THE WORK REQUIREMENT TO MAINTAIN MEMBERSHIP INTO YEAR 2\n\n\n\n5:30pm-9:30pm minimum\n\n\n\nMEMBERS working the event(s) or “parties” are entered into a drawing for “free” club dues at each Members General Meeting (monthly)\n1 entry per shift worked\n\n\n** WINNER WINNER OX ROAST DINNER**
URL:https://greencastlesportsman.com/event/members-work-party-ox-roast/2022-08-12/
ATTACH;FMTTYPE=image/jpeg:https://greencastlesportsman.com/wp-content/uploads/2022/07/work-party-weds.jpg
END:VEVENT
BEGIN:VEVENT
DTSTART;TZID=America/Detroit:20220812T170000
DTEND;TZID=America/Detroit:20220813T220000
DTSTAMP:20260420T110557
CREATED:20220721T152046Z
LAST-MODIFIED:20220813T002146Z
UID:10001337-1660323600-1660428000@greencastlesportsman.com
SUMMARY:NON OX ROAST ACTIVITIES PROHIBITED
DESCRIPTION:MEMBERS – activities unrelated to the ANNUAL OX ROAST are suspended as of 1200 noon Friday through midnight Saturday 0000 – no shooting\, no fishing\, no hiking\, no camping – all on site members are to be working toward another successful ANNUAL OX ROAST – refer to Rules + Regs Item 19 under Use of Grounds and Facilities. \n 
URL:https://greencastlesportsman.com/event/non-ox-roast-activities-prohibited/2022-08-12/
ATTACH;FMTTYPE=image/jpeg:https://greencastlesportsman.com/wp-content/uploads/2022/07/restricted-area-ox-roast.jpg
END:VEVENT
BEGIN:VEVENT
DTSTART;TZID=America/Detroit:20220810T173000
DTEND;TZID=America/Detroit:20220810T213000
DTSTAMP:20260420T110557
CREATED:20220711T160349Z
LAST-MODIFIED:20220711T160349Z
UID:10001334-1660152600-1660167000@greencastlesportsman.com
SUMMARY:MEMBERS WORK PARTY - OX ROAST
DESCRIPTION:MEMBERS WORK PARTY TONIGHT\n\n\nOX ROAST PREP – SHOW UP AND SIGN IN\n\n\n\nFIRST YEAR MEMBERS\nCOMPLETE THE WORK REQUIREMENT TO MAINTAIN MEMBERSHIP INTO YEAR 2\n\n\n\n5:30pm-9:30pm minimum\n\n\n\nMEMBERS working the event(s) or “parties” are entered into a drawing for “free” club dues at each Members General Meeting (monthly)\n1 entry per shift worked\n\n\n** WINNER WINNER OX ROAST DINNER**
URL:https://greencastlesportsman.com/event/members-work-party-ox-roast/2022-08-10/
ATTACH;FMTTYPE=image/jpeg:https://greencastlesportsman.com/wp-content/uploads/2022/07/work-party-weds.jpg
END:VEVENT
BEGIN:VEVENT
DTSTART;TZID=America/Detroit:20220808T180000
DTEND;TZID=America/Detroit:20220808T210000
DTSTAMP:20260420T110557
CREATED:20220218T140610Z
LAST-MODIFIED:20220405T132418Z
UID:10001270-1659981600-1659992400@greencastlesportsman.com
SUMMARY:Monday Evening Trap Practice
DESCRIPTION:Monday Eve Trap Practice – fees apply for clay birds  \n                Singles –     $3.50 @ 25 targets \n                Handicap-   $3.50 @ 25 targets \n                Doubles-     $7.00 @ 50 targets \n* OPEN TO THE PUBLIC * \n\n                shells are not available at this time – bring what you can find !! \nSTARTING TIME 6:00 PM \nAT THE GREENCASTLE SPORTSMEN’S CLUB \ncontact Joe Carbaugh @ 717.658.0265 or Matt Mohler @ 717.816.4326 with questions
URL:https://greencastlesportsman.com/event/2476/2022-08-08/
LOCATION:The Clubhouse\, 3260 Sportsmans Rd\, Greencastle\, PA\, 17225\, United States
ATTACH;FMTTYPE=image/jpeg:https://greencastlesportsman.com/wp-content/uploads/2022/02/trap-practice.jpg
ORGANIZER;CN="Joe Carbaugh":MAILTO:1buckhunter@embarqmail.com
END:VEVENT
BEGIN:VEVENT
DTSTART;TZID=America/Detroit:20220808T160000
DTEND;TZID=America/Detroit:20220808T203000
DTSTAMP:20260420T110557
CREATED:20220302T153955Z
LAST-MODIFIED:20220317T121941Z
UID:10001663-1659974400-1659990600@greencastlesportsman.com
SUMMARY:MONDAY NIGHT 3D
DESCRIPTION:Monday night 3D shoots held weekly.\nCasual Registration 4:00-6:30\n15 Rhinehart Targets (2 shots per target)\nOpen to the public\, and all skill levels\nAdults $5\n12-17 $3\nUnder 11 free\nFood available
URL:https://greencastlesportsman.com/event/monday-night-3d/2022-08-08/
ATTACH;FMTTYPE=image/jpeg:https://greencastlesportsman.com/wp-content/uploads/2022/03/cheadhunters-3d-archery.jpg
END:VEVENT
BEGIN:VEVENT
DTSTART;TZID=America/Detroit:20220807T080000
DTEND;TZID=America/Detroit:20220807T110000
DTSTAMP:20260420T110557
CREATED:20220512T132842Z
LAST-MODIFIED:20220512T133411Z
UID:10001746-1659859200-1659870000@greencastlesportsman.com
SUMMARY:Rifle Range – 8am – 11am
DESCRIPTION:Hours \nJune\, July\, August – Weekends \nSaturday\n8:00 AM – 5:00 PM \nSunday\n8:00 AM – 11:00 AM
URL:https://greencastlesportsman.com/event/rifle-range-8am-11am/2022-08-07/
ATTACH;FMTTYPE=image/jpeg:https://greencastlesportsman.com/wp-content/uploads/2022/05/download.jpg
END:VEVENT
BEGIN:VEVENT
DTSTART;TZID=America/Detroit:20220806T173000
DTEND;TZID=America/Detroit:20220806T203000
DTSTAMP:20260420T110557
CREATED:20220222T131913Z
LAST-MODIFIED:20220222T132338Z
UID:10001284-1659807000-1659817800@greencastlesportsman.com
SUMMARY:The Antietam Generals @ OX ROAST
DESCRIPTION:The Antietam Generals are: Jeff Taulton\, Jon Kay\, James Hann\, Ragan Potts & JR Hann. An eclectic mix of Rockin’ Blues and Classic Rock. \nhttp://www.theantietamgenerals.com/Home.html \nThe Antietam Generals are made up of an eclectic group of musicians with one major common denominator… “Rock & Roll”. Jeff Taulton was raised in Western Maryland during the late 70s under the auspices of an older brother who openly tossed acts like Jimi Hendrix\, David Bowie and Bad Company his way. Jon Kay hails from Chicago “then Florida” and has Blues with Southern Rock & Roll innately in his blood. Ragan Potts was raised in Southern Pennsylvania under the heavy influences of Jazz & Rock. JR Hann is an “80s child”. He has been a professional musician since he was 14\, emulating great guitarists from that era such as Slash & Eddie Van Halen. James Hann is a Bluegrass veteran that can play anything with strings! he’s the longtime leader of Virginia’s Brandy Stills band. Together\, this quintet gels into an electric mix of Americana\, Rockin’ Blues known as The Antietam Generals (a name coined by Jeff’s legendary high school coach Dwight Scott).
URL:https://greencastlesportsman.com/event/the-antietam-generals-ox-roast/
LOCATION:Sowell Pavilion @ Ox Roast Grounds
ATTACH;FMTTYPE=image/jpeg:https://greencastlesportsman.com/wp-content/uploads/2022/02/zzzzzzzz2.jpg
END:VEVENT
BEGIN:VEVENT
DTSTART;TZID=America/Detroit:20220806T120000
DTEND;TZID=America/Detroit:20220806T210000
DTSTAMP:20260420T110557
CREATED:20220711T154413Z
LAST-MODIFIED:20220711T155004Z
UID:10001331-1659787200-1659819600@greencastlesportsman.com
SUMMARY:OX ROAST @ GSA
DESCRIPTION:Saturday AUGUST 06 12pm – 9pm\n\n\n\nLUNCH(DINNER) DINNER(SUPPER) OR BOTH !!!\n\n\n\nAntietam Generals – AUGUST 06 – 5:30pm – 8:30pm\n\n\n\nHOT OX SANDWICH – GROUND/SLICED\n\n\nFRIED COUNTRY HAM SANDWICH\n\n\nSOUP / HOT DOG\n\n\nFRENCH FRIES & RIBBON FRIES\n\n\nKETTLE CORN / SNOW CONE / COTTON CANDY\n\n\nWATER / SODA / COFFEE + MORE IN THE WORKS
URL:https://greencastlesportsman.com/event/ox-roast-gsa/
ATTACH;FMTTYPE=image/jpeg:https://greencastlesportsman.com/wp-content/uploads/2022/07/ox-2-w2.jpg
END:VEVENT
BEGIN:VEVENT
DTSTART;TZID=America/Detroit:20220806T080000
DTEND;TZID=America/Detroit:20220806T170000
DTSTAMP:20260420T110557
CREATED:20220512T131651Z
LAST-MODIFIED:20220527T123811Z
UID:10001734-1659772800-1659805200@greencastlesportsman.com
SUMMARY:Rifle Range - 8am - 5pm
DESCRIPTION:Hours \nJune\, July\, August – Weekends \nSaturday\n8:00 AM – 5:00 PM \nSunday\n8:00 AM – 11:00 AM
URL:https://greencastlesportsman.com/event/rifle-range-8am-5pm/2022-08-06/
ATTACH;FMTTYPE=image/jpeg:https://greencastlesportsman.com/wp-content/uploads/2022/05/download.jpg
END:VEVENT
BEGIN:VEVENT
DTSTART;TZID=America/Detroit:20220805T173000
DTEND;TZID=America/Detroit:20220805T213000
DTSTAMP:20260420T110557
CREATED:20220711T160349Z
LAST-MODIFIED:20220711T160349Z
UID:10001333-1659720600-1659735000@greencastlesportsman.com
SUMMARY:MEMBERS WORK PARTY - OX ROAST
DESCRIPTION:MEMBERS WORK PARTY TONIGHT\n\n\nOX ROAST PREP – SHOW UP AND SIGN IN\n\n\n\nFIRST YEAR MEMBERS\nCOMPLETE THE WORK REQUIREMENT TO MAINTAIN MEMBERSHIP INTO YEAR 2\n\n\n\n5:30pm-9:30pm minimum\n\n\n\nMEMBERS working the event(s) or “parties” are entered into a drawing for “free” club dues at each Members General Meeting (monthly)\n1 entry per shift worked\n\n\n** WINNER WINNER OX ROAST DINNER**
URL:https://greencastlesportsman.com/event/members-work-party-ox-roast/2022-08-05/
ATTACH;FMTTYPE=image/jpeg:https://greencastlesportsman.com/wp-content/uploads/2022/07/work-party-weds.jpg
END:VEVENT
BEGIN:VEVENT
DTSTART;TZID=America/Detroit:20220805T170000
DTEND;TZID=America/Detroit:20220806T220000
DTSTAMP:20260420T110557
CREATED:20220721T152046Z
LAST-MODIFIED:20220813T002146Z
UID:10001336-1659718800-1659823200@greencastlesportsman.com
SUMMARY:NON OX ROAST ACTIVITIES PROHIBITED
DESCRIPTION:MEMBERS – activities unrelated to the ANNUAL OX ROAST are suspended as of 1200 noon Friday through midnight Saturday 0000 – no shooting\, no fishing\, no hiking\, no camping – all on site members are to be working toward another successful ANNUAL OX ROAST – refer to Rules + Regs Item 19 under Use of Grounds and Facilities. \n 
URL:https://greencastlesportsman.com/event/non-ox-roast-activities-prohibited/2022-08-05/
ATTACH;FMTTYPE=image/jpeg:https://greencastlesportsman.com/wp-content/uploads/2022/07/restricted-area-ox-roast.jpg
END:VEVENT
BEGIN:VEVENT
DTSTART;TZID=America/Detroit:20220804T190000
DTEND;TZID=America/Detroit:20220804T210000
DTSTAMP:20260420T110557
CREATED:20210727T193206Z
LAST-MODIFIED:20211001T134653Z
UID:10001517-1659639600-1659646800@greencastlesportsman.com
SUMMARY:Board of Director's Meeting
DESCRIPTION:
URL:https://greencastlesportsman.com/event/oct-2021-bod-meeting/2022-08-04/
LOCATION:The Clubhouse\, 3260 Sportsmans Rd\, Greencastle\, PA\, 17225\, United States
ATTACH;FMTTYPE=image/jpeg:https://greencastlesportsman.com/wp-content/uploads/2021/07/MembersMeeting3-1-scaled.jpg
END:VEVENT
BEGIN:VEVENT
DTSTART;TZID=America/Detroit:20220803T173000
DTEND;TZID=America/Detroit:20220803T213000
DTSTAMP:20260420T110557
CREATED:20220711T160349Z
LAST-MODIFIED:20220711T160349Z
UID:10001332-1659547800-1659562200@greencastlesportsman.com
SUMMARY:MEMBERS WORK PARTY - OX ROAST
DESCRIPTION:MEMBERS WORK PARTY TONIGHT\n\n\nOX ROAST PREP – SHOW UP AND SIGN IN\n\n\n\nFIRST YEAR MEMBERS\nCOMPLETE THE WORK REQUIREMENT TO MAINTAIN MEMBERSHIP INTO YEAR 2\n\n\n\n5:30pm-9:30pm minimum\n\n\n\nMEMBERS working the event(s) or “parties” are entered into a drawing for “free” club dues at each Members General Meeting (monthly)\n1 entry per shift worked\n\n\n** WINNER WINNER OX ROAST DINNER**
URL:https://greencastlesportsman.com/event/members-work-party-ox-roast/2022-08-03/
ATTACH;FMTTYPE=image/jpeg:https://greencastlesportsman.com/wp-content/uploads/2022/07/work-party-weds.jpg
END:VEVENT
BEGIN:VEVENT
DTSTART;TZID=America/Detroit:20220802T080000
DTEND;TZID=America/Detroit:20220802T170000
DTSTAMP:20260420T110557
CREATED:20220505T125824Z
LAST-MODIFIED:20220505T125824Z
UID:10001714-1659427200-1659459600@greencastlesportsman.com
SUMMARY:FISHERY ENHANCEMENT CATCH AND RELEASE ONLY 2022
DESCRIPTION:FISHERY ENHANCEMENT\n** GOAL** Panel 2: Balanced pond.\nThis is the best situation for good fishing of both species. \nCATCH AND RELEASE ONLY – PANFISH – ALL BASS LARGER THAN 11″ – CATCH AND RELEASE ONLY \n\nThe first goal in the management of the fish population in any water body is to\nmatch the proper predator fish with the proper forage fish.\nOnce this is accomplished\, the object is to manage the forage fish population to produce large\nnumbers of young fish on which the predators can feed. \n\nResults of the fish population survey indicate that the fish population is what would\nbe classified as out of balance.  This the same situation that has occurred the last few years. \n\nIt appears that fishermen have been harvesting the larger bass\, 11”+\, from the lake.\nThese 11″+ bass are now protected from harvest and need to remain in the lake. \n\nContinuing to harvest these larger bass will have a continued negative impact on the overall fishery.\nThe predator fish must be maintained in larger numbers to prevent the forage fish from overpopulating.
URL:https://greencastlesportsman.com/event/panfish-enhancement-catch-and-release-only/2022-08-02/
ATTACH;FMTTYPE=image/png:https://greencastlesportsman.com/wp-content/uploads/2022/05/image018.png
END:VEVENT
BEGIN:VEVENT
DTSTART;TZID=America/Detroit:20220801T180000
DTEND;TZID=America/Detroit:20220801T210000
DTSTAMP:20260420T110557
CREATED:20220218T140610Z
LAST-MODIFIED:20220405T132418Z
UID:10001269-1659376800-1659387600@greencastlesportsman.com
SUMMARY:Monday Evening Trap Practice
DESCRIPTION:Monday Eve Trap Practice – fees apply for clay birds  \n                Singles –     $3.50 @ 25 targets \n                Handicap-   $3.50 @ 25 targets \n                Doubles-     $7.00 @ 50 targets \n* OPEN TO THE PUBLIC * \n\n                shells are not available at this time – bring what you can find !! \nSTARTING TIME 6:00 PM \nAT THE GREENCASTLE SPORTSMEN’S CLUB \ncontact Joe Carbaugh @ 717.658.0265 or Matt Mohler @ 717.816.4326 with questions
URL:https://greencastlesportsman.com/event/2476/2022-08-01/
LOCATION:The Clubhouse\, 3260 Sportsmans Rd\, Greencastle\, PA\, 17225\, United States
ATTACH;FMTTYPE=image/jpeg:https://greencastlesportsman.com/wp-content/uploads/2022/02/trap-practice.jpg
ORGANIZER;CN="Joe Carbaugh":MAILTO:1buckhunter@embarqmail.com
END:VEVENT
BEGIN:VEVENT
DTSTART;TZID=America/Detroit:20220801T160000
DTEND;TZID=America/Detroit:20220801T203000
DTSTAMP:20260420T110557
CREATED:20220302T153955Z
LAST-MODIFIED:20220317T121941Z
UID:10001662-1659369600-1659385800@greencastlesportsman.com
SUMMARY:MONDAY NIGHT 3D
DESCRIPTION:Monday night 3D shoots held weekly.\nCasual Registration 4:00-6:30\n15 Rhinehart Targets (2 shots per target)\nOpen to the public\, and all skill levels\nAdults $5\n12-17 $3\nUnder 11 free\nFood available
URL:https://greencastlesportsman.com/event/monday-night-3d/2022-08-01/
ATTACH;FMTTYPE=image/jpeg:https://greencastlesportsman.com/wp-content/uploads/2022/03/cheadhunters-3d-archery.jpg
END:VEVENT
BEGIN:VEVENT
DTSTART;TZID=America/Detroit:20220731T080000
DTEND;TZID=America/Detroit:20220731T110000
DTSTAMP:20260420T110557
CREATED:20220512T132842Z
LAST-MODIFIED:20220512T133411Z
UID:10001745-1659254400-1659265200@greencastlesportsman.com
SUMMARY:Rifle Range – 8am – 11am
DESCRIPTION:Hours \nJune\, July\, August – Weekends \nSaturday\n8:00 AM – 5:00 PM \nSunday\n8:00 AM – 11:00 AM
URL:https://greencastlesportsman.com/event/rifle-range-8am-11am/2022-07-31/
ATTACH;FMTTYPE=image/jpeg:https://greencastlesportsman.com/wp-content/uploads/2022/05/download.jpg
END:VEVENT
BEGIN:VEVENT
DTSTART;TZID=America/Detroit:20220730T080000
DTEND;TZID=America/Detroit:20220730T170000
DTSTAMP:20260420T110557
CREATED:20220512T131651Z
LAST-MODIFIED:20220527T123811Z
UID:10001733-1659168000-1659200400@greencastlesportsman.com
SUMMARY:Rifle Range - 8am - 5pm
DESCRIPTION:Hours \nJune\, July\, August – Weekends \nSaturday\n8:00 AM – 5:00 PM \nSunday\n8:00 AM – 11:00 AM
URL:https://greencastlesportsman.com/event/rifle-range-8am-5pm/2022-07-30/
ATTACH;FMTTYPE=image/jpeg:https://greencastlesportsman.com/wp-content/uploads/2022/05/download.jpg
END:VEVENT
BEGIN:VEVENT
DTSTART;TZID=America/Detroit:20220729T180000
DTEND;TZID=America/Detroit:20220729T210000
DTSTAMP:20260420T110557
CREATED:20220312T173711Z
LAST-MODIFIED:20220405T132526Z
UID:10001684-1659117600-1659128400@greencastlesportsman.com
SUMMARY:Friday Evening Trap Practice
DESCRIPTION:Friday Evening Trap Practice – fees apply for clay birds  \n                Singles –     $3.50 @ 25 targets \n                Handicap-   $3.50 @ 25 targets \n                Doubles-     $7.00 @ 50 targets \n* OPEN TO THE PUBLIC * \n                shells are not available at this time – bring what you can find !! \nSTARTING TIME 6:00 PM \nAT THE GREENCASTLE SPORTSMEN’S CLUB \ncontact Joe Carbaugh @ 717.658.0265 or Matt Mohler @ 717.816.4326 with questions
URL:https://greencastlesportsman.com/event/friday-evening-trap-practice/2022-07-29/
LOCATION:The Clubhouse\, 3260 Sportsmans Rd\, Greencastle\, PA\, 17225\, United States
ATTACH;FMTTYPE=image/jpeg:https://greencastlesportsman.com/wp-content/uploads/2022/02/trap-practice.jpg
ORGANIZER;CN="Joe Carbaugh":MAILTO:1buckhunter@embarqmail.com
END:VEVENT
BEGIN:VEVENT
DTSTART;TZID=America/Detroit:20220728T190000
DTEND;TZID=America/Detroit:20220728T200000
DTSTAMP:20260420T110557
CREATED:20210727T192828Z
LAST-MODIFIED:20241002T193746Z
UID:10001445-1659034800-1659038400@greencastlesportsman.com
SUMMARY:Membership Meeting
DESCRIPTION:
URL:https://greencastlesportsman.com/event/membership-meeting-4/2022-07-28/
LOCATION:The Clubhouse\, 3260 Sportsmans Rd\, Greencastle\, PA\, 17225\, United States
ATTACH;FMTTYPE=image/jpeg:https://greencastlesportsman.com/wp-content/uploads/2021/07/MembersMeeting2.jpg
END:VEVENT
END:VCALENDAR