BEGIN:VCALENDAR
VERSION:2.0
PRODID:-//greencastlesportsman.com - ECPv6.3.5//NONSGML v1.0//EN
CALSCALE:GREGORIAN
METHOD:PUBLISH
X-WR-CALNAME:greencastlesportsman.com
X-ORIGINAL-URL:https://greencastlesportsman.com
X-WR-CALDESC:Events for greencastlesportsman.com
REFRESH-INTERVAL;VALUE=DURATION:PT1H
X-Robots-Tag:noindex
X-PUBLISHED-TTL:PT1H
BEGIN:VTIMEZONE
TZID:America/Detroit
BEGIN:DAYLIGHT
TZOFFSETFROM:-0500
TZOFFSETTO:-0400
TZNAME:EDT
DTSTART:20220313T070000
END:DAYLIGHT
BEGIN:STANDARD
TZOFFSETFROM:-0400
TZOFFSETTO:-0500
TZNAME:EST
DTSTART:20221106T060000
END:STANDARD
BEGIN:DAYLIGHT
TZOFFSETFROM:-0500
TZOFFSETTO:-0400
TZNAME:EDT
DTSTART:20230312T070000
END:DAYLIGHT
BEGIN:STANDARD
TZOFFSETFROM:-0400
TZOFFSETTO:-0500
TZNAME:EST
DTSTART:20231105T060000
END:STANDARD
END:VTIMEZONE
BEGIN:VEVENT
DTSTART;TZID=America/Detroit:20230120T080000
DTEND;TZID=America/Detroit:20230120T170000
DTSTAMP:20260419T210532
CREATED:20221017T115330Z
LAST-MODIFIED:20230505T124415Z
UID:10001395-1674201600-1674234000@greencastlesportsman.com
SUMMARY:Shooting Range Hours Through 05/14/23 DAILY 8AM-5PM
DESCRIPTION:October 16 – May 14   \n8:00 AM – 5:00 PM
URL:https://greencastlesportsman.com/event/shooting-range-hours-through-05-23-daily-8am-5pm/2023-01-20/
LOCATION:Rifle Range
ATTACH;FMTTYPE=image/png:https://greencastlesportsman.com/wp-content/uploads/2022/10/Beige-Black-Classy-Minimalist-Store-Hours-Flyer.png
END:VEVENT
BEGIN:VEVENT
DTSTART;TZID=America/Detroit:20230118T180000
DTEND;TZID=America/Detroit:20230118T213000
DTSTAMP:20260419T210532
CREATED:20220926T135545Z
LAST-MODIFIED:20220926T135545Z
UID:10001784-1674064800-1674077400@greencastlesportsman.com
SUMMARY:INDOOR ARCHERY LEAGUE
DESCRIPTION:What is our league?\n4 person teams with individual scoring and classes.\nScoring is done with handicap scoring\, so the equipment doesn’t matter.\nWe have classes for everything from recurves to scopes. (No crossbows)\nWe shoot one evening a week\, your team is scheduled at either 6:30 or 8:00 to shoot.\nWe shoot on Tuesday/Wednesday nights for roughly 10 weeks\, if we have enough teams sign up we will have to also schedule some on Wednesday nights.\n\n\n\nHow far do you shoot\, how many shots?\n20 yards and you shoot 3 arrows 12 times.\n\n\n\nDon’t have a 4 person team?\nPlease sign up any way and we will get you set up with some other folks.\n\n\n\nTo sign up please contact Clayton Asper 717-597-5163
URL:https://greencastlesportsman.com/event/indoor-archery-league-3/2023-01-18/
LOCATION:The Clubhouse\, 3260 Sportsmans Rd\, Greencastle\, PA\, 17225\, United States
ATTACH;FMTTYPE=image/jpeg:https://greencastlesportsman.com/wp-content/uploads/2022/02/World_Archery.jpg
END:VEVENT
BEGIN:VEVENT
DTSTART;TZID=America/Detroit:20230117T180000
DTEND;TZID=America/Detroit:20230117T213000
DTSTAMP:20260419T210532
CREATED:20220926T135545Z
LAST-MODIFIED:20220926T135545Z
UID:10001783-1673978400-1673991000@greencastlesportsman.com
SUMMARY:INDOOR ARCHERY LEAGUE
DESCRIPTION:What is our league?\n4 person teams with individual scoring and classes.\nScoring is done with handicap scoring\, so the equipment doesn’t matter.\nWe have classes for everything from recurves to scopes. (No crossbows)\nWe shoot one evening a week\, your team is scheduled at either 6:30 or 8:00 to shoot.\nWe shoot on Tuesday/Wednesday nights for roughly 10 weeks\, if we have enough teams sign up we will have to also schedule some on Wednesday nights.\n\n\n\nHow far do you shoot\, how many shots?\n20 yards and you shoot 3 arrows 12 times.\n\n\n\nDon’t have a 4 person team?\nPlease sign up any way and we will get you set up with some other folks.\n\n\n\nTo sign up please contact Clayton Asper 717-597-5163
URL:https://greencastlesportsman.com/event/indoor-archery-league-3/2023-01-17/
LOCATION:The Clubhouse\, 3260 Sportsmans Rd\, Greencastle\, PA\, 17225\, United States
ATTACH;FMTTYPE=image/jpeg:https://greencastlesportsman.com/wp-content/uploads/2022/02/World_Archery.jpg
END:VEVENT
BEGIN:VEVENT
DTSTART;TZID=America/Detroit:20230116T180000
DTEND;TZID=America/Detroit:20230116T210000
DTSTAMP:20260419T210532
CREATED:20220926T140057Z
LAST-MODIFIED:20221229T144500Z
UID:10001802-1673892000-1673902800@greencastlesportsman.com
SUMMARY:Kids Archery League
DESCRIPTION:Our indoor archery league for kids will focus will be on safety and learning to enjoy archery\, with a goal of eventually placing kids on teams and have them compete against each other just like we do with the adult league\, while still emphasizing individual improvement week to week. \nThe 10-yard league will shoot at 6:00 PM and the 20-yard league will follow them and shoot at 7:30 PM.  \nParental Help \nWe will appreciate parental help and you do not need to be an accomplished archer to help. We will need help to supervise kids while shooting\, coach shooting\, help scoring\, and concessions. \nEquipment \nWe provide targets. We ask the parents to provide bows and arrows for their kids\, although we may be able to provide a few on a limited and as-needed basis. Bows must be vertical bows (no crossbows) but may include longbows\, recurves\, or compound bows. Arrows must be tipped with field points (no broadheads). Kids will shoot 3 arrows in a row before checking targets and scoring so they should have at least 4 good arrows in case an arrow is damaged during competition.
URL:https://greencastlesportsman.com/event/kids-archery-league/2023-01-16/
LOCATION:The Clubhouse\, 3260 Sportsmans Rd\, Greencastle\, PA\, 17225\, United States
ATTACH;FMTTYPE=image/jpeg:https://greencastlesportsman.com/wp-content/uploads/2021/10/arrows.jpg
END:VEVENT
BEGIN:VEVENT
DTSTART;TZID=America/Detroit:20230115T140000
DTEND;TZID=America/Detroit:20230115T160000
DTSTAMP:20260419T210532
CREATED:20220926T133723Z
LAST-MODIFIED:20221223T153748Z
UID:10001362-1673791200-1673798400@greencastlesportsman.com
SUMMARY:2023 *IN PERSON* MEMBERSHIP RENEWAL
DESCRIPTION:IN PERSON RENEWALS STARTING JAN 2023 \nSUNDAYS 2pm – 4pm \nOR snail mail to: \nmust be postmarked by Tuesday\, January 17\, 2023 \nGreencastle Sportsman’s Association \nPO Box 632 \nGreencastle\, PA 17225 \ninclude a self-addressed stamped envelope for returning new membership card \notherwise\, you will need to pick up in person Sundays in January or at Membership meeting \nOR place inside Clubhouse Dropbox: \nmust be received by Tuesday\, January 24\, 2023 \ninclude a self-addressed stamped envelope for returning new membership card \notherwise\, you will need to pick up in person Sundays in January or at Membership meeting.
URL:https://greencastlesportsman.com/event/2023-in-person-membership-renewal/2023-01-15/
LOCATION:The Clubhouse\, 3260 Sportsmans Rd\, Greencastle\, PA\, 17225\, United States
ATTACH;FMTTYPE=image/png:https://greencastlesportsman.com/wp-content/uploads/2021/12/renewgreen.png
END:VEVENT
BEGIN:VEVENT
DTSTART;TZID=America/Detroit:20230115T080000
DTEND;TZID=America/Detroit:20230115T180000
DTSTAMP:20260419T210532
CREATED:20211001T140252Z
LAST-MODIFIED:20220506T122751Z
UID:10001601-1673769600-1673805600@greencastlesportsman.com
SUMMARY:Tri-State Trap League @ GSA
DESCRIPTION:Tri-State Trap League (web-link) \nPlease check scores and options played before leaving the shoot \nATTENTION ALL SHOOTERS: Please verify your proper yardage before you shoot. \n Any shooter shooting from the wrong yardage WILL be disqualified and any options money forfeited. \n100 Straight Jackpot Option \nCurrent Jackpot value is $12\,171 (as of May 06 2022) \nPayout (90%) is $10\,954 \nReserve (10%) is $1\,217
URL:https://greencastlesportsman.com/event/tri-state-trap-league-2022-01-09/2023-01-15/
LOCATION:PA
ATTACH;FMTTYPE=image/jpeg:https://greencastlesportsman.com/wp-content/uploads/2021/10/trap-illustration-2-1.jpg
END:VEVENT
BEGIN:VEVENT
DTSTART;TZID=America/Detroit:20230115T080000
DTEND;TZID=America/Detroit:20230115T170000
DTSTAMP:20260419T210532
CREATED:20221017T115330Z
LAST-MODIFIED:20230505T124415Z
UID:10001394-1673769600-1673802000@greencastlesportsman.com
SUMMARY:Shooting Range Hours Through 05/14/23 DAILY 8AM-5PM
DESCRIPTION:October 16 – May 14   \n8:00 AM – 5:00 PM
URL:https://greencastlesportsman.com/event/shooting-range-hours-through-05-23-daily-8am-5pm/2023-01-15/
LOCATION:Rifle Range
ATTACH;FMTTYPE=image/png:https://greencastlesportsman.com/wp-content/uploads/2022/10/Beige-Black-Classy-Minimalist-Store-Hours-Flyer.png
END:VEVENT
BEGIN:VEVENT
DTSTART;TZID=America/Detroit:20230114T180000
DTEND;TZID=America/Detroit:20230114T220000
DTSTAMP:20260419T210532
CREATED:20221031T143254Z
LAST-MODIFIED:20221212T132518Z
UID:10001429-1673719200-1673733600@greencastlesportsman.com
SUMMARY:Grocery Shoot – Indoor Archery
DESCRIPTION:January 14                           Doors open at 6:00 pm shoot begins at 7:00 pm \nFebruary 11                        Doors open at 6:00 pm shoot begins at 7:00 pm \nMarch 11                             Doors open at 6:00 pm shoot begins at 7:00 pm \n2 Classes following PSAA indoor rules \nHunter class – No magnification on sight and stabilizers less than 12” \nOpen class – No restrictions \nNo crossbows \n$20 per shooter \nYou may register more than once to have multiple chances \n15 Rounds \nAt least 1 meat prize per round per class \n50/50 Novelty Shoots \nKitchen Concessions available \nSize of the arrow does not matter as it will be measured from the center of the hole.  This is similar to a turkey shoot\, but with a bow. \nPRINTABLE FLYER 
URL:https://greencastlesportsman.com/event/grocery-shoot-indoor-archery-2/2023-01-14/
LOCATION:The Clubhouse + Kitchen
ATTACH;FMTTYPE=image/jpeg:https://greencastlesportsman.com/wp-content/uploads/2021/11/Grocery-Shoot.jpg
END:VEVENT
BEGIN:VEVENT
DTSTART;TZID=America/Detroit:20230113T080000
DTEND;TZID=America/Detroit:20230113T170000
DTSTAMP:20260419T210532
CREATED:20221017T115330Z
LAST-MODIFIED:20230505T124415Z
UID:10001393-1673596800-1673629200@greencastlesportsman.com
SUMMARY:Shooting Range Hours Through 05/14/23 DAILY 8AM-5PM
DESCRIPTION:October 16 – May 14   \n8:00 AM – 5:00 PM
URL:https://greencastlesportsman.com/event/shooting-range-hours-through-05-23-daily-8am-5pm/2023-01-13/
LOCATION:Rifle Range
ATTACH;FMTTYPE=image/png:https://greencastlesportsman.com/wp-content/uploads/2022/10/Beige-Black-Classy-Minimalist-Store-Hours-Flyer.png
END:VEVENT
BEGIN:VEVENT
DTSTART;TZID=America/Detroit:20230111T180000
DTEND;TZID=America/Detroit:20230111T213000
DTSTAMP:20260419T210532
CREATED:20220926T135545Z
LAST-MODIFIED:20220926T135545Z
UID:10001782-1673460000-1673472600@greencastlesportsman.com
SUMMARY:INDOOR ARCHERY LEAGUE
DESCRIPTION:What is our league?\n4 person teams with individual scoring and classes.\nScoring is done with handicap scoring\, so the equipment doesn’t matter.\nWe have classes for everything from recurves to scopes. (No crossbows)\nWe shoot one evening a week\, your team is scheduled at either 6:30 or 8:00 to shoot.\nWe shoot on Tuesday/Wednesday nights for roughly 10 weeks\, if we have enough teams sign up we will have to also schedule some on Wednesday nights.\n\n\n\nHow far do you shoot\, how many shots?\n20 yards and you shoot 3 arrows 12 times.\n\n\n\nDon’t have a 4 person team?\nPlease sign up any way and we will get you set up with some other folks.\n\n\n\nTo sign up please contact Clayton Asper 717-597-5163
URL:https://greencastlesportsman.com/event/indoor-archery-league-3/2023-01-11/
LOCATION:The Clubhouse\, 3260 Sportsmans Rd\, Greencastle\, PA\, 17225\, United States
ATTACH;FMTTYPE=image/jpeg:https://greencastlesportsman.com/wp-content/uploads/2022/02/World_Archery.jpg
END:VEVENT
BEGIN:VEVENT
DTSTART;TZID=America/Detroit:20230110T180000
DTEND;TZID=America/Detroit:20230110T213000
DTSTAMP:20260419T210532
CREATED:20220926T135545Z
LAST-MODIFIED:20220926T135545Z
UID:10001781-1673373600-1673386200@greencastlesportsman.com
SUMMARY:INDOOR ARCHERY LEAGUE
DESCRIPTION:What is our league?\n4 person teams with individual scoring and classes.\nScoring is done with handicap scoring\, so the equipment doesn’t matter.\nWe have classes for everything from recurves to scopes. (No crossbows)\nWe shoot one evening a week\, your team is scheduled at either 6:30 or 8:00 to shoot.\nWe shoot on Tuesday/Wednesday nights for roughly 10 weeks\, if we have enough teams sign up we will have to also schedule some on Wednesday nights.\n\n\n\nHow far do you shoot\, how many shots?\n20 yards and you shoot 3 arrows 12 times.\n\n\n\nDon’t have a 4 person team?\nPlease sign up any way and we will get you set up with some other folks.\n\n\n\nTo sign up please contact Clayton Asper 717-597-5163
URL:https://greencastlesportsman.com/event/indoor-archery-league-3/2023-01-10/
LOCATION:The Clubhouse\, 3260 Sportsmans Rd\, Greencastle\, PA\, 17225\, United States
ATTACH;FMTTYPE=image/jpeg:https://greencastlesportsman.com/wp-content/uploads/2022/02/World_Archery.jpg
END:VEVENT
BEGIN:VEVENT
DTSTART;TZID=America/Detroit:20230109T180000
DTEND;TZID=America/Detroit:20230109T210000
DTSTAMP:20260419T210532
CREATED:20220926T140057Z
LAST-MODIFIED:20221229T144500Z
UID:10001801-1673287200-1673298000@greencastlesportsman.com
SUMMARY:Kids Archery League
DESCRIPTION:Our indoor archery league for kids will focus will be on safety and learning to enjoy archery\, with a goal of eventually placing kids on teams and have them compete against each other just like we do with the adult league\, while still emphasizing individual improvement week to week. \nThe 10-yard league will shoot at 6:00 PM and the 20-yard league will follow them and shoot at 7:30 PM.  \nParental Help \nWe will appreciate parental help and you do not need to be an accomplished archer to help. We will need help to supervise kids while shooting\, coach shooting\, help scoring\, and concessions. \nEquipment \nWe provide targets. We ask the parents to provide bows and arrows for their kids\, although we may be able to provide a few on a limited and as-needed basis. Bows must be vertical bows (no crossbows) but may include longbows\, recurves\, or compound bows. Arrows must be tipped with field points (no broadheads). Kids will shoot 3 arrows in a row before checking targets and scoring so they should have at least 4 good arrows in case an arrow is damaged during competition.
URL:https://greencastlesportsman.com/event/kids-archery-league/2023-01-09/
LOCATION:The Clubhouse\, 3260 Sportsmans Rd\, Greencastle\, PA\, 17225\, United States
ATTACH;FMTTYPE=image/jpeg:https://greencastlesportsman.com/wp-content/uploads/2021/10/arrows.jpg
END:VEVENT
BEGIN:VEVENT
DTSTART;TZID=America/Detroit:20230108T140000
DTEND;TZID=America/Detroit:20230108T160000
DTSTAMP:20260419T210532
CREATED:20220926T133723Z
LAST-MODIFIED:20221223T153748Z
UID:10001361-1673186400-1673193600@greencastlesportsman.com
SUMMARY:2023 *IN PERSON* MEMBERSHIP RENEWAL
DESCRIPTION:IN PERSON RENEWALS STARTING JAN 2023 \nSUNDAYS 2pm – 4pm \nOR snail mail to: \nmust be postmarked by Tuesday\, January 17\, 2023 \nGreencastle Sportsman’s Association \nPO Box 632 \nGreencastle\, PA 17225 \ninclude a self-addressed stamped envelope for returning new membership card \notherwise\, you will need to pick up in person Sundays in January or at Membership meeting \nOR place inside Clubhouse Dropbox: \nmust be received by Tuesday\, January 24\, 2023 \ninclude a self-addressed stamped envelope for returning new membership card \notherwise\, you will need to pick up in person Sundays in January or at Membership meeting.
URL:https://greencastlesportsman.com/event/2023-in-person-membership-renewal/2023-01-08/
LOCATION:The Clubhouse\, 3260 Sportsmans Rd\, Greencastle\, PA\, 17225\, United States
ATTACH;FMTTYPE=image/png:https://greencastlesportsman.com/wp-content/uploads/2021/12/renewgreen.png
END:VEVENT
BEGIN:VEVENT
DTSTART;TZID=America/Detroit:20230108T130000
DTEND;TZID=America/Detroit:20230108T170000
DTSTAMP:20260419T210532
CREATED:20221207T125011Z
LAST-MODIFIED:20221207T125011Z
UID:10001872-1673182800-1673197200@greencastlesportsman.com
SUMMARY:Adult Indoor LeagueHandicap Score Qualifying
DESCRIPTION:Adult Indoor League Handicap score qualifying round  1:00 PM
URL:https://greencastlesportsman.com/event/adult-indoor-leaguehandicap-score-qualifying/
LOCATION:The Clubhouse\, 3260 Sportsmans Rd\, Greencastle\, PA\, 17225\, United States
ATTACH;FMTTYPE=image/jpeg:https://greencastlesportsman.com/wp-content/uploads/2022/12/Perfect-End-450-Round-Archery-Practice-e1670417381190.jpg
END:VEVENT
BEGIN:VEVENT
DTSTART;TZID=America/Detroit:20230108T080000
DTEND;TZID=America/Detroit:20230108T170000
DTSTAMP:20260419T210532
CREATED:20221207T124427Z
LAST-MODIFIED:20221207T124427Z
UID:10001871-1673164800-1673197200@greencastlesportsman.com
SUMMARY:Archery Work Party
DESCRIPTION:Gluing Indoor Targets 8:00 AM
URL:https://greencastlesportsman.com/event/archery-work-party/
LOCATION:The Clubhouse\, 3260 Sportsmans Rd\, Greencastle\, PA\, 17225\, United States
ATTACH;FMTTYPE=image/jpeg:https://greencastlesportsman.com/wp-content/uploads/2022/12/Craft-adhesives-collage-e1670417041853.jpg
END:VEVENT
BEGIN:VEVENT
DTSTART;TZID=America/Detroit:20230108T080000
DTEND;TZID=America/Detroit:20230108T170000
DTSTAMP:20260419T210532
CREATED:20221017T115330Z
LAST-MODIFIED:20230505T124415Z
UID:10001392-1673164800-1673197200@greencastlesportsman.com
SUMMARY:Shooting Range Hours Through 05/14/23 DAILY 8AM-5PM
DESCRIPTION:October 16 – May 14   \n8:00 AM – 5:00 PM
URL:https://greencastlesportsman.com/event/shooting-range-hours-through-05-23-daily-8am-5pm/2023-01-08/
LOCATION:Rifle Range
ATTACH;FMTTYPE=image/png:https://greencastlesportsman.com/wp-content/uploads/2022/10/Beige-Black-Classy-Minimalist-Store-Hours-Flyer.png
END:VEVENT
BEGIN:VEVENT
DTSTART;TZID=America/Detroit:20230106T080000
DTEND;TZID=America/Detroit:20230106T170000
DTSTAMP:20260419T210532
CREATED:20221017T115330Z
LAST-MODIFIED:20230505T124415Z
UID:10001391-1672992000-1673024400@greencastlesportsman.com
SUMMARY:Shooting Range Hours Through 05/14/23 DAILY 8AM-5PM
DESCRIPTION:October 16 – May 14   \n8:00 AM – 5:00 PM
URL:https://greencastlesportsman.com/event/shooting-range-hours-through-05-23-daily-8am-5pm/2023-01-06/
LOCATION:Rifle Range
ATTACH;FMTTYPE=image/png:https://greencastlesportsman.com/wp-content/uploads/2022/10/Beige-Black-Classy-Minimalist-Store-Hours-Flyer.png
END:VEVENT
BEGIN:VEVENT
DTSTART;TZID=America/Detroit:20230105T190000
DTEND;TZID=America/Detroit:20230105T210000
DTSTAMP:20260419T210532
CREATED:20210727T193206Z
LAST-MODIFIED:20211001T134653Z
UID:10001522-1672945200-1672952400@greencastlesportsman.com
SUMMARY:Board of Director's Meeting
DESCRIPTION:
URL:https://greencastlesportsman.com/event/oct-2021-bod-meeting/2023-01-05/
LOCATION:The Clubhouse\, 3260 Sportsmans Rd\, Greencastle\, PA\, 17225\, United States
ATTACH;FMTTYPE=image/jpeg:https://greencastlesportsman.com/wp-content/uploads/2021/07/MembersMeeting3-1-scaled.jpg
END:VEVENT
BEGIN:VEVENT
DTSTART;TZID=America/Detroit:20230101T140000
DTEND;TZID=America/Detroit:20230101T160000
DTSTAMP:20260419T210532
CREATED:20220926T133723Z
LAST-MODIFIED:20221223T153748Z
UID:10001360-1672581600-1672588800@greencastlesportsman.com
SUMMARY:2023 *IN PERSON* MEMBERSHIP RENEWAL
DESCRIPTION:IN PERSON RENEWALS STARTING JAN 2023 \nSUNDAYS 2pm – 4pm \nOR snail mail to: \nmust be postmarked by Tuesday\, January 17\, 2023 \nGreencastle Sportsman’s Association \nPO Box 632 \nGreencastle\, PA 17225 \ninclude a self-addressed stamped envelope for returning new membership card \notherwise\, you will need to pick up in person Sundays in January or at Membership meeting \nOR place inside Clubhouse Dropbox: \nmust be received by Tuesday\, January 24\, 2023 \ninclude a self-addressed stamped envelope for returning new membership card \notherwise\, you will need to pick up in person Sundays in January or at Membership meeting.
URL:https://greencastlesportsman.com/event/2023-in-person-membership-renewal/2023-01-01/
LOCATION:The Clubhouse\, 3260 Sportsmans Rd\, Greencastle\, PA\, 17225\, United States
ATTACH;FMTTYPE=image/png:https://greencastlesportsman.com/wp-content/uploads/2021/12/renewgreen.png
END:VEVENT
BEGIN:VEVENT
DTSTART;TZID=America/Detroit:20230101T080000
DTEND;TZID=America/Detroit:20230101T170000
DTSTAMP:20260419T210532
CREATED:20221017T115330Z
LAST-MODIFIED:20230505T124415Z
UID:10001390-1672560000-1672592400@greencastlesportsman.com
SUMMARY:Shooting Range Hours Through 05/14/23 DAILY 8AM-5PM
DESCRIPTION:October 16 – May 14   \n8:00 AM – 5:00 PM
URL:https://greencastlesportsman.com/event/shooting-range-hours-through-05-23-daily-8am-5pm/2023-01-01/
LOCATION:Rifle Range
ATTACH;FMTTYPE=image/png:https://greencastlesportsman.com/wp-content/uploads/2022/10/Beige-Black-Classy-Minimalist-Store-Hours-Flyer.png
END:VEVENT
BEGIN:VEVENT
DTSTART;TZID=America/Detroit:20221230T080000
DTEND;TZID=America/Detroit:20221230T170000
DTSTAMP:20260419T210532
CREATED:20221017T115330Z
LAST-MODIFIED:20230505T124415Z
UID:10001389-1672387200-1672419600@greencastlesportsman.com
SUMMARY:Shooting Range Hours Through 05/14/23 DAILY 8AM-5PM
DESCRIPTION:October 16 – May 14   \n8:00 AM – 5:00 PM
URL:https://greencastlesportsman.com/event/shooting-range-hours-through-05-23-daily-8am-5pm/2022-12-30/
LOCATION:Rifle Range
ATTACH;FMTTYPE=image/png:https://greencastlesportsman.com/wp-content/uploads/2022/10/Beige-Black-Classy-Minimalist-Store-Hours-Flyer.png
END:VEVENT
BEGIN:VEVENT
DTSTART;TZID=America/Detroit:20221225T080000
DTEND;TZID=America/Detroit:20221225T170000
DTSTAMP:20260419T210532
CREATED:20221017T115330Z
LAST-MODIFIED:20230505T124415Z
UID:10001388-1671955200-1671987600@greencastlesportsman.com
SUMMARY:Shooting Range Hours Through 05/14/23 DAILY 8AM-5PM
DESCRIPTION:October 16 – May 14   \n8:00 AM – 5:00 PM
URL:https://greencastlesportsman.com/event/shooting-range-hours-through-05-23-daily-8am-5pm/2022-12-25/
LOCATION:Rifle Range
ATTACH;FMTTYPE=image/png:https://greencastlesportsman.com/wp-content/uploads/2022/10/Beige-Black-Classy-Minimalist-Store-Hours-Flyer.png
END:VEVENT
BEGIN:VEVENT
DTSTART;TZID=America/Detroit:20221223T080000
DTEND;TZID=America/Detroit:20221223T170000
DTSTAMP:20260419T210532
CREATED:20221017T115330Z
LAST-MODIFIED:20230505T124415Z
UID:10001387-1671782400-1671814800@greencastlesportsman.com
SUMMARY:Shooting Range Hours Through 05/14/23 DAILY 8AM-5PM
DESCRIPTION:October 16 – May 14   \n8:00 AM – 5:00 PM
URL:https://greencastlesportsman.com/event/shooting-range-hours-through-05-23-daily-8am-5pm/2022-12-23/
LOCATION:Rifle Range
ATTACH;FMTTYPE=image/png:https://greencastlesportsman.com/wp-content/uploads/2022/10/Beige-Black-Classy-Minimalist-Store-Hours-Flyer.png
END:VEVENT
BEGIN:VEVENT
DTSTART;TZID=America/Detroit:20221218T150000
DTEND;TZID=America/Detroit:20221218T170000
DTSTAMP:20260419T210533
CREATED:20221118T135634Z
LAST-MODIFIED:20221118T135634Z
UID:10001437-1671375600-1671382800@greencastlesportsman.com
SUMMARY:ARCHERY CLUB MEETING
DESCRIPTION:ARCHERY CLUB MEETING
URL:https://greencastlesportsman.com/event/archery-club-meeting-3/
LOCATION:The Clubhouse\, 3260 Sportsmans Rd\, Greencastle\, PA\, 17225\, United States
ATTACH;FMTTYPE=image/jpeg:https://greencastlesportsman.com/wp-content/uploads/2021/10/Activity-Seals-04-e1664204163445.jpg
END:VEVENT
BEGIN:VEVENT
DTSTART;TZID=America/Detroit:20221218T080000
DTEND;TZID=America/Detroit:20221218T170000
DTSTAMP:20260419T210533
CREATED:20221017T115330Z
LAST-MODIFIED:20230505T124415Z
UID:10001386-1671350400-1671382800@greencastlesportsman.com
SUMMARY:Shooting Range Hours Through 05/14/23 DAILY 8AM-5PM
DESCRIPTION:October 16 – May 14   \n8:00 AM – 5:00 PM
URL:https://greencastlesportsman.com/event/shooting-range-hours-through-05-23-daily-8am-5pm/2022-12-18/
LOCATION:Rifle Range
ATTACH;FMTTYPE=image/png:https://greencastlesportsman.com/wp-content/uploads/2022/10/Beige-Black-Classy-Minimalist-Store-Hours-Flyer.png
END:VEVENT
BEGIN:VEVENT
DTSTART;TZID=America/Detroit:20221216T150000
DTEND;TZID=America/Detroit:20221216T210000
DTSTAMP:20260419T210533
CREATED:20221202T132217Z
LAST-MODIFIED:20221202T132217Z
UID:10001865-1671202800-1671224400@greencastlesportsman.com
SUMMARY:PRIVATE EVENT – CLUBHOUSE
DESCRIPTION:J&J Telecom
URL:https://greencastlesportsman.com/event/private-event-clubhouse-7/
LOCATION:The Clubhouse + Kitchen
ATTACH;FMTTYPE=image/jpeg:https://greencastlesportsman.com/wp-content/uploads/2022/12/d47940d64d8b629eca28d5eba2b68b99.jpg
END:VEVENT
BEGIN:VEVENT
DTSTART;TZID=America/Detroit:20221216T080000
DTEND;TZID=America/Detroit:20221216T170000
DTSTAMP:20260419T210533
CREATED:20221017T115330Z
LAST-MODIFIED:20230505T124415Z
UID:10001385-1671177600-1671210000@greencastlesportsman.com
SUMMARY:Shooting Range Hours Through 05/14/23 DAILY 8AM-5PM
DESCRIPTION:October 16 – May 14   \n8:00 AM – 5:00 PM
URL:https://greencastlesportsman.com/event/shooting-range-hours-through-05-23-daily-8am-5pm/2022-12-16/
LOCATION:Rifle Range
ATTACH;FMTTYPE=image/png:https://greencastlesportsman.com/wp-content/uploads/2022/10/Beige-Black-Classy-Minimalist-Store-Hours-Flyer.png
END:VEVENT
BEGIN:VEVENT
DTSTART;TZID=America/Detroit:20221215T160000
DTEND;TZID=America/Detroit:20221215T220000
DTSTAMP:20260419T210533
CREATED:20220805T150637Z
LAST-MODIFIED:20220805T150637Z
UID:10001771-1671120000-1671141600@greencastlesportsman.com
SUMMARY:GSA Junior Sportsman Christmas Banquet
DESCRIPTION:
URL:https://greencastlesportsman.com/event/gsa-junior-sportsman-christmas-banquet/
LOCATION:The Clubhouse\, 3260 Sportsmans Rd\, Greencastle\, PA\, 17225\, United States
ATTACH;FMTTYPE=image/jpeg:https://greencastlesportsman.com/wp-content/uploads/2022/08/banquet-scaled.jpg
ORGANIZER;CN="Jason Cotton":MAILTO:jacotton@crsemler.com
END:VEVENT
BEGIN:VEVENT
DTSTART;TZID=America/Detroit:20221211T080000
DTEND;TZID=America/Detroit:20221211T170000
DTSTAMP:20260419T210533
CREATED:20221017T115330Z
LAST-MODIFIED:20230505T124415Z
UID:10001384-1670745600-1670778000@greencastlesportsman.com
SUMMARY:Shooting Range Hours Through 05/14/23 DAILY 8AM-5PM
DESCRIPTION:October 16 – May 14   \n8:00 AM – 5:00 PM
URL:https://greencastlesportsman.com/event/shooting-range-hours-through-05-23-daily-8am-5pm/2022-12-11/
LOCATION:Rifle Range
ATTACH;FMTTYPE=image/png:https://greencastlesportsman.com/wp-content/uploads/2022/10/Beige-Black-Classy-Minimalist-Store-Hours-Flyer.png
END:VEVENT
BEGIN:VEVENT
DTSTART;TZID=America/Detroit:20221209T080000
DTEND;TZID=America/Detroit:20221209T170000
DTSTAMP:20260419T210533
CREATED:20221017T115330Z
LAST-MODIFIED:20230505T124415Z
UID:10001383-1670572800-1670605200@greencastlesportsman.com
SUMMARY:Shooting Range Hours Through 05/14/23 DAILY 8AM-5PM
DESCRIPTION:October 16 – May 14   \n8:00 AM – 5:00 PM
URL:https://greencastlesportsman.com/event/shooting-range-hours-through-05-23-daily-8am-5pm/2022-12-09/
LOCATION:Rifle Range
ATTACH;FMTTYPE=image/png:https://greencastlesportsman.com/wp-content/uploads/2022/10/Beige-Black-Classy-Minimalist-Store-Hours-Flyer.png
END:VEVENT
END:VCALENDAR