BEGIN:VCALENDAR
VERSION:2.0
PRODID:-//greencastlesportsman.com - ECPv6.3.5//NONSGML v1.0//EN
CALSCALE:GREGORIAN
METHOD:PUBLISH
X-WR-CALNAME:greencastlesportsman.com
X-ORIGINAL-URL:https://greencastlesportsman.com
X-WR-CALDESC:Events for greencastlesportsman.com
REFRESH-INTERVAL;VALUE=DURATION:PT1H
X-Robots-Tag:noindex
X-PUBLISHED-TTL:PT1H
BEGIN:VTIMEZONE
TZID:America/Detroit
BEGIN:DAYLIGHT
TZOFFSETFROM:-0500
TZOFFSETTO:-0400
TZNAME:EDT
DTSTART:20220313T070000
END:DAYLIGHT
BEGIN:STANDARD
TZOFFSETFROM:-0400
TZOFFSETTO:-0500
TZNAME:EST
DTSTART:20221106T060000
END:STANDARD
END:VTIMEZONE
BEGIN:VEVENT
DTSTART;TZID=America/Detroit:20221122T080000
DTEND;TZID=America/Detroit:20221122T170000
DTSTAMP:20260420T015905
CREATED:20220505T125824Z
LAST-MODIFIED:20220505T125824Z
UID:10001722-1669104000-1669136400@greencastlesportsman.com
SUMMARY:FISHERY ENHANCEMENT CATCH AND RELEASE ONLY 2022
DESCRIPTION:FISHERY ENHANCEMENT\n** GOAL** Panel 2: Balanced pond.\nThis is the best situation for good fishing of both species. \nCATCH AND RELEASE ONLY – PANFISH – ALL BASS LARGER THAN 11″ – CATCH AND RELEASE ONLY \n\nThe first goal in the management of the fish population in any water body is to\nmatch the proper predator fish with the proper forage fish.\nOnce this is accomplished\, the object is to manage the forage fish population to produce large\nnumbers of young fish on which the predators can feed. \n\nResults of the fish population survey indicate that the fish population is what would\nbe classified as out of balance.  This the same situation that has occurred the last few years. \n\nIt appears that fishermen have been harvesting the larger bass\, 11”+\, from the lake.\nThese 11″+ bass are now protected from harvest and need to remain in the lake. \n\nContinuing to harvest these larger bass will have a continued negative impact on the overall fishery.\nThe predator fish must be maintained in larger numbers to prevent the forage fish from overpopulating.
URL:https://greencastlesportsman.com/event/panfish-enhancement-catch-and-release-only/2022-11-22/
LOCATION:PA
ATTACH;FMTTYPE=image/png:https://greencastlesportsman.com/wp-content/uploads/2022/05/image018.png
END:VEVENT
BEGIN:VEVENT
DTSTART;TZID=America/Detroit:20221120T080000
DTEND;TZID=America/Detroit:20221120T170000
DTSTAMP:20260420T015905
CREATED:20221017T115330Z
LAST-MODIFIED:20230505T124415Z
UID:10001378-1668931200-1668963600@greencastlesportsman.com
SUMMARY:Shooting Range Hours Through 05/14/23 DAILY 8AM-5PM
DESCRIPTION:October 16 – May 14   \n8:00 AM – 5:00 PM
URL:https://greencastlesportsman.com/event/shooting-range-hours-through-05-23-daily-8am-5pm/2022-11-20/
LOCATION:Rifle Range
ATTACH;FMTTYPE=image/png:https://greencastlesportsman.com/wp-content/uploads/2022/10/Beige-Black-Classy-Minimalist-Store-Hours-Flyer.png
END:VEVENT
BEGIN:VEVENT
DTSTART;TZID=America/Detroit:20221118T080000
DTEND;TZID=America/Detroit:20221118T170000
DTSTAMP:20260420T015905
CREATED:20221017T115330Z
LAST-MODIFIED:20230505T124415Z
UID:10001377-1668758400-1668790800@greencastlesportsman.com
SUMMARY:Shooting Range Hours Through 05/14/23 DAILY 8AM-5PM
DESCRIPTION:October 16 – May 14   \n8:00 AM – 5:00 PM
URL:https://greencastlesportsman.com/event/shooting-range-hours-through-05-23-daily-8am-5pm/2022-11-18/
LOCATION:Rifle Range
ATTACH;FMTTYPE=image/png:https://greencastlesportsman.com/wp-content/uploads/2022/10/Beige-Black-Classy-Minimalist-Store-Hours-Flyer.png
END:VEVENT
BEGIN:VEVENT
DTSTART;TZID=America/Detroit:20221117T190000
DTEND;TZID=America/Detroit:20221117T200000
DTSTAMP:20260420T015905
CREATED:20230131T020133Z
LAST-MODIFIED:20230131T020133Z
UID:10001500-1668711600-1668715200@greencastlesportsman.com
SUMMARY:Membership Meeting
DESCRIPTION:
URL:https://greencastlesportsman.com/event/membership-meeting/2022-11-17/
LOCATION:The Clubhouse\, 3260 Sportsmans Rd\, Greencastle\, PA\, 17225\, United States
ATTACH;FMTTYPE=image/jpeg:https://greencastlesportsman.com/wp-content/uploads/2021/07/MembersMeeting2.jpg
END:VEVENT
BEGIN:VEVENT
DTSTART;TZID=America/Detroit:20221113T080000
DTEND;TZID=America/Detroit:20221113T170000
DTSTAMP:20260420T015905
CREATED:20221017T115330Z
LAST-MODIFIED:20230505T124415Z
UID:10001376-1668326400-1668358800@greencastlesportsman.com
SUMMARY:Shooting Range Hours Through 05/14/23 DAILY 8AM-5PM
DESCRIPTION:October 16 – May 14   \n8:00 AM – 5:00 PM
URL:https://greencastlesportsman.com/event/shooting-range-hours-through-05-23-daily-8am-5pm/2022-11-13/
LOCATION:Rifle Range
ATTACH;FMTTYPE=image/png:https://greencastlesportsman.com/wp-content/uploads/2022/10/Beige-Black-Classy-Minimalist-Store-Hours-Flyer.png
END:VEVENT
BEGIN:VEVENT
DTSTART;TZID=America/Detroit:20221111T120000
DTEND;TZID=America/Detroit:20221111T210000
DTSTAMP:20260420T015905
CREATED:20240906T182357Z
LAST-MODIFIED:20251023T004615Z
UID:10003135-1668168000-1668200400@greencastlesportsman.com
SUMMARY:Girl Scouts Baking
DESCRIPTION:
URL:https://greencastlesportsman.com/event/girl-scouts-baking/
LOCATION:The Clubhouse + Kitchen
ATTACH;FMTTYPE=image/jpeg:https://greencastlesportsman.com/wp-content/uploads/2022/04/girl-scouts-give.jpg
END:VEVENT
BEGIN:VEVENT
DTSTART;TZID=America/Detroit:20221111T120000
DTEND;TZID=America/Detroit:20221111T210000
DTSTAMP:20260420T015905
CREATED:20220904T171700Z
LAST-MODIFIED:20220904T171700Z
UID:10001344-1668168000-1668200400@greencastlesportsman.com
SUMMARY:Girl Scouts Troop 80161Journey Workshop + Baking
DESCRIPTION:Journeys\n\n\n\nExplore what really matters to you and use your passion to change the world—that’s what Girl Scout Journeys are all about. \nGirl Scout Journeys are multi-session experiences in which girls dig deeper into their interests and use the skills they gain along the way to make a difference in their community. While badges show the world you’ve learned a new skill\, Journey awards say\, “I found a way to make a difference.” \nDuring a Journey\, Girl Scouts do hands-on activities\, connect with experts\, and take the lead on a Take Action project with their community. And once a Junior\, Cadette\, Senior\, or Ambassador completes their Journey\, they’re ready to drive lasting change in their communities by going for their Bronze\, Silver\, or Gold Award.
URL:https://greencastlesportsman.com/event/girl-scouts-troop-80161journey-workshop-baking/
LOCATION:The Clubhouse + Kitchen
ATTACH;FMTTYPE=image/jpeg:https://greencastlesportsman.com/wp-content/uploads/2022/04/girl-scouts-give.jpg
ORGANIZER;CN="Harshman":MAILTO:info@greencastlesportsman.com
END:VEVENT
BEGIN:VEVENT
DTSTART;TZID=America/Detroit:20221111T080000
DTEND;TZID=America/Detroit:20221111T170000
DTSTAMP:20260420T015905
CREATED:20221017T115330Z
LAST-MODIFIED:20230505T124415Z
UID:10001375-1668153600-1668186000@greencastlesportsman.com
SUMMARY:Shooting Range Hours Through 05/14/23 DAILY 8AM-5PM
DESCRIPTION:October 16 – May 14   \n8:00 AM – 5:00 PM
URL:https://greencastlesportsman.com/event/shooting-range-hours-through-05-23-daily-8am-5pm/2022-11-11/
LOCATION:Rifle Range
ATTACH;FMTTYPE=image/png:https://greencastlesportsman.com/wp-content/uploads/2022/10/Beige-Black-Classy-Minimalist-Store-Hours-Flyer.png
END:VEVENT
BEGIN:VEVENT
DTSTART;TZID=America/Detroit:20221108T080000
DTEND;TZID=America/Detroit:20221108T170000
DTSTAMP:20260420T015905
CREATED:20220505T125824Z
LAST-MODIFIED:20220505T125824Z
UID:10001721-1667894400-1667926800@greencastlesportsman.com
SUMMARY:FISHERY ENHANCEMENT CATCH AND RELEASE ONLY 2022
DESCRIPTION:FISHERY ENHANCEMENT\n** GOAL** Panel 2: Balanced pond.\nThis is the best situation for good fishing of both species. \nCATCH AND RELEASE ONLY – PANFISH – ALL BASS LARGER THAN 11″ – CATCH AND RELEASE ONLY \n\nThe first goal in the management of the fish population in any water body is to\nmatch the proper predator fish with the proper forage fish.\nOnce this is accomplished\, the object is to manage the forage fish population to produce large\nnumbers of young fish on which the predators can feed. \n\nResults of the fish population survey indicate that the fish population is what would\nbe classified as out of balance.  This the same situation that has occurred the last few years. \n\nIt appears that fishermen have been harvesting the larger bass\, 11”+\, from the lake.\nThese 11″+ bass are now protected from harvest and need to remain in the lake. \n\nContinuing to harvest these larger bass will have a continued negative impact on the overall fishery.\nThe predator fish must be maintained in larger numbers to prevent the forage fish from overpopulating.
URL:https://greencastlesportsman.com/event/panfish-enhancement-catch-and-release-only/2022-11-08/
LOCATION:PA
ATTACH;FMTTYPE=image/png:https://greencastlesportsman.com/wp-content/uploads/2022/05/image018.png
END:VEVENT
BEGIN:VEVENT
DTSTART;TZID=America/Detroit:20221106T080000
DTEND;TZID=America/Detroit:20221106T170000
DTSTAMP:20260420T015905
CREATED:20221017T115330Z
LAST-MODIFIED:20230505T124415Z
UID:10001374-1667721600-1667754000@greencastlesportsman.com
SUMMARY:Shooting Range Hours Through 05/14/23 DAILY 8AM-5PM
DESCRIPTION:October 16 – May 14   \n8:00 AM – 5:00 PM
URL:https://greencastlesportsman.com/event/shooting-range-hours-through-05-23-daily-8am-5pm/2022-11-06/
LOCATION:Rifle Range
ATTACH;FMTTYPE=image/png:https://greencastlesportsman.com/wp-content/uploads/2022/10/Beige-Black-Classy-Minimalist-Store-Hours-Flyer.png
END:VEVENT
BEGIN:VEVENT
DTSTART;TZID=America/Detroit:20221105T140000
DTEND;TZID=America/Detroit:20221105T210000
DTSTAMP:20260420T015905
CREATED:20220803T184031Z
LAST-MODIFIED:20220805T144759Z
UID:10001340-1667656800-1667682000@greencastlesportsman.com
SUMMARY:BSA Troop 99 Fall Court of Honor/ Thanksgiving Meal
DESCRIPTION:Fall Court of Honor/ Thanksgiving Meal. \nKitchen for carving the turkeys and washing our hands. \n 
URL:https://greencastlesportsman.com/event/pending-bsa-troop-99-fall-court-of-honor-thanksgiving-meal/
LOCATION:The Clubhouse\, 3260 Sportsmans Rd\, Greencastle\, PA\, 17225\, United States
ATTACH;FMTTYPE=image/jpeg:https://greencastlesportsman.com/wp-content/uploads/2021/11/courtofhonor-clipart.jpg
END:VEVENT
BEGIN:VEVENT
DTSTART;TZID=America/Detroit:20221104T160000
DTEND;TZID=America/Detroit:20221106T100000
DTSTAMP:20260420T015905
CREATED:20220803T183447Z
LAST-MODIFIED:20220805T144910Z
UID:10001339-1667577600-1667728800@greencastlesportsman.com
SUMMARY:BSA Troop 99 - Fall Campout
DESCRIPTION:Fall Campout/Court of Honor.
URL:https://greencastlesportsman.com/event/pending-bsa-troop-99/
LOCATION:Lake Pavilion
ATTACH;FMTTYPE=image/jpeg:https://greencastlesportsman.com/wp-content/uploads/2022/04/CAMPING.jpg
END:VEVENT
BEGIN:VEVENT
DTSTART;TZID=America/Detroit:20221104T080000
DTEND;TZID=America/Detroit:20221104T170000
DTSTAMP:20260420T015905
CREATED:20221017T115330Z
LAST-MODIFIED:20230505T124415Z
UID:10001373-1667548800-1667581200@greencastlesportsman.com
SUMMARY:Shooting Range Hours Through 05/14/23 DAILY 8AM-5PM
DESCRIPTION:October 16 – May 14   \n8:00 AM – 5:00 PM
URL:https://greencastlesportsman.com/event/shooting-range-hours-through-05-23-daily-8am-5pm/2022-11-04/
LOCATION:Rifle Range
ATTACH;FMTTYPE=image/png:https://greencastlesportsman.com/wp-content/uploads/2022/10/Beige-Black-Classy-Minimalist-Store-Hours-Flyer.png
END:VEVENT
BEGIN:VEVENT
DTSTART;TZID=America/Detroit:20221103T190000
DTEND;TZID=America/Detroit:20221103T210000
DTSTAMP:20260420T015905
CREATED:20210727T193206Z
LAST-MODIFIED:20211001T134653Z
UID:10001520-1667502000-1667509200@greencastlesportsman.com
SUMMARY:Board of Director's Meeting
DESCRIPTION:
URL:https://greencastlesportsman.com/event/oct-2021-bod-meeting/2022-11-03/
LOCATION:The Clubhouse\, 3260 Sportsmans Rd\, Greencastle\, PA\, 17225\, United States
ATTACH;FMTTYPE=image/jpeg:https://greencastlesportsman.com/wp-content/uploads/2021/07/MembersMeeting3-1-scaled.jpg
END:VEVENT
BEGIN:VEVENT
DTSTART;TZID=America/Detroit:20221103T060000
DTEND;TZID=America/Detroit:20221103T180000
DTSTAMP:20260420T015905
CREATED:20220805T145057Z
LAST-MODIFIED:20220805T145057Z
UID:10001343-1667455200-1667498400@greencastlesportsman.com
SUMMARY:Apple Dumpling Gang  Kitchen @ Clubhouse
DESCRIPTION:
URL:https://greencastlesportsman.com/event/apple-dumpling-gang-kitchen-clubhouse-2/
LOCATION:PA
ATTACH;FMTTYPE=image/jpeg:https://greencastlesportsman.com/wp-content/uploads/2021/10/image.jpg
END:VEVENT
BEGIN:VEVENT
DTSTART;TZID=America/Detroit:20221030T080000
DTEND;TZID=America/Detroit:20221030T180000
DTSTAMP:20260420T015905
CREATED:20211001T140252Z
LAST-MODIFIED:20220506T122751Z
UID:10001600-1667116800-1667152800@greencastlesportsman.com
SUMMARY:Tri-State Trap League @ GSA
DESCRIPTION:Tri-State Trap League (web-link) \nPlease check scores and options played before leaving the shoot \nATTENTION ALL SHOOTERS: Please verify your proper yardage before you shoot. \n Any shooter shooting from the wrong yardage WILL be disqualified and any options money forfeited. \n100 Straight Jackpot Option \nCurrent Jackpot value is $12\,171 (as of May 06 2022) \nPayout (90%) is $10\,954 \nReserve (10%) is $1\,217
URL:https://greencastlesportsman.com/event/tri-state-trap-league-2022-01-09/2022-10-30/
LOCATION:PA
ATTACH;FMTTYPE=image/jpeg:https://greencastlesportsman.com/wp-content/uploads/2021/10/trap-illustration-2-1.jpg
END:VEVENT
BEGIN:VEVENT
DTSTART;TZID=America/Detroit:20221030T080000
DTEND;TZID=America/Detroit:20221030T170000
DTSTAMP:20260420T015905
CREATED:20221017T115330Z
LAST-MODIFIED:20230505T124415Z
UID:10001372-1667116800-1667149200@greencastlesportsman.com
SUMMARY:Shooting Range Hours Through 05/14/23 DAILY 8AM-5PM
DESCRIPTION:October 16 – May 14   \n8:00 AM – 5:00 PM
URL:https://greencastlesportsman.com/event/shooting-range-hours-through-05-23-daily-8am-5pm/2022-10-30/
LOCATION:Rifle Range
ATTACH;FMTTYPE=image/png:https://greencastlesportsman.com/wp-content/uploads/2022/10/Beige-Black-Classy-Minimalist-Store-Hours-Flyer.png
END:VEVENT
BEGIN:VEVENT
DTSTART;TZID=America/Detroit:20221028T080000
DTEND;TZID=America/Detroit:20221028T170000
DTSTAMP:20260420T015905
CREATED:20221017T115330Z
LAST-MODIFIED:20230505T124415Z
UID:10001371-1666944000-1666976400@greencastlesportsman.com
SUMMARY:Shooting Range Hours Through 05/14/23 DAILY 8AM-5PM
DESCRIPTION:October 16 – May 14   \n8:00 AM – 5:00 PM
URL:https://greencastlesportsman.com/event/shooting-range-hours-through-05-23-daily-8am-5pm/2022-10-28/
LOCATION:Rifle Range
ATTACH;FMTTYPE=image/png:https://greencastlesportsman.com/wp-content/uploads/2022/10/Beige-Black-Classy-Minimalist-Store-Hours-Flyer.png
END:VEVENT
BEGIN:VEVENT
DTSTART;TZID=America/Detroit:20221027T190000
DTEND;TZID=America/Detroit:20221027T200000
DTSTAMP:20260420T015905
CREATED:20210727T192828Z
LAST-MODIFIED:20241002T193746Z
UID:10001447-1666897200-1666900800@greencastlesportsman.com
SUMMARY:Membership Meeting
DESCRIPTION:
URL:https://greencastlesportsman.com/event/membership-meeting-4/2022-10-27/
LOCATION:The Clubhouse\, 3260 Sportsmans Rd\, Greencastle\, PA\, 17225\, United States
ATTACH;FMTTYPE=image/jpeg:https://greencastlesportsman.com/wp-content/uploads/2021/07/MembersMeeting2.jpg
END:VEVENT
BEGIN:VEVENT
DTSTART;TZID=America/Detroit:20221025T080000
DTEND;TZID=America/Detroit:20221025T170000
DTSTAMP:20260420T015905
CREATED:20220505T125824Z
LAST-MODIFIED:20220505T125824Z
UID:10001720-1666684800-1666717200@greencastlesportsman.com
SUMMARY:FISHERY ENHANCEMENT CATCH AND RELEASE ONLY 2022
DESCRIPTION:FISHERY ENHANCEMENT\n** GOAL** Panel 2: Balanced pond.\nThis is the best situation for good fishing of both species. \nCATCH AND RELEASE ONLY – PANFISH – ALL BASS LARGER THAN 11″ – CATCH AND RELEASE ONLY \n\nThe first goal in the management of the fish population in any water body is to\nmatch the proper predator fish with the proper forage fish.\nOnce this is accomplished\, the object is to manage the forage fish population to produce large\nnumbers of young fish on which the predators can feed. \n\nResults of the fish population survey indicate that the fish population is what would\nbe classified as out of balance.  This the same situation that has occurred the last few years. \n\nIt appears that fishermen have been harvesting the larger bass\, 11”+\, from the lake.\nThese 11″+ bass are now protected from harvest and need to remain in the lake. \n\nContinuing to harvest these larger bass will have a continued negative impact on the overall fishery.\nThe predator fish must be maintained in larger numbers to prevent the forage fish from overpopulating.
URL:https://greencastlesportsman.com/event/panfish-enhancement-catch-and-release-only/2022-10-25/
LOCATION:PA
ATTACH;FMTTYPE=image/png:https://greencastlesportsman.com/wp-content/uploads/2022/05/image018.png
END:VEVENT
BEGIN:VEVENT
DTSTART;TZID=America/Detroit:20221023T080000
DTEND;TZID=America/Detroit:20221023T170000
DTSTAMP:20260420T015905
CREATED:20221017T115330Z
LAST-MODIFIED:20230505T124415Z
UID:10001370-1666512000-1666544400@greencastlesportsman.com
SUMMARY:Shooting Range Hours Through 05/14/23 DAILY 8AM-5PM
DESCRIPTION:October 16 – May 14   \n8:00 AM – 5:00 PM
URL:https://greencastlesportsman.com/event/shooting-range-hours-through-05-23-daily-8am-5pm/2022-10-23/
LOCATION:Rifle Range
ATTACH;FMTTYPE=image/png:https://greencastlesportsman.com/wp-content/uploads/2022/10/Beige-Black-Classy-Minimalist-Store-Hours-Flyer.png
END:VEVENT
BEGIN:VEVENT
DTSTART;TZID=America/Detroit:20221022T140000
DTEND;TZID=America/Detroit:20221022T233000
DTSTAMP:20260420T015905
CREATED:20220525T142843Z
LAST-MODIFIED:20220603T130944Z
UID:10001317-1666447200-1666481400@greencastlesportsman.com
SUMMARY:@ LAKE PAVILION PRIVATE EVENT
DESCRIPTION:rifle range to be closed at 2 and limited access to lake pavilion around 2 \nwedding + reception – 120 guests
URL:https://greencastlesportsman.com/event/lake-pavilion-pending-gsa-board-approval/
LOCATION:Lake Pavilion
ATTACH;FMTTYPE=image/jpeg:https://greencastlesportsman.com/wp-content/uploads/2022/05/wedding-scaled-e1654261753666.jpg
END:VEVENT
BEGIN:VEVENT
DTSTART;TZID=America/Detroit:20221022T140000
DTEND;TZID=America/Detroit:20221022T170000
DTSTAMP:20260420T015905
CREATED:20221019T232913Z
LAST-MODIFIED:20221019T232913Z
UID:10001428-1666447200-1666458000@greencastlesportsman.com
SUMMARY:Rifle Range CLOSED 2PM - 5PM
DESCRIPTION:rifle range closed due to PRIVATE EVENT
URL:https://greencastlesportsman.com/event/rifle-range-closed-2pm-5pm/
LOCATION:Rifle Range
ATTACH;FMTTYPE=image/jpeg:https://greencastlesportsman.com/wp-content/uploads/2022/06/open-closed.jpg
END:VEVENT
BEGIN:VEVENT
DTSTART;TZID=America/Detroit:20221022T120000
DTEND;TZID=America/Detroit:20221022T170000
DTSTAMP:20260420T015905
CREATED:20220904T172506Z
LAST-MODIFIED:20220904T172717Z
UID:10001345-1666440000-1666458000@greencastlesportsman.com
SUMMARY:Girl Scouts Troop 80161Journey Workshop
DESCRIPTION:Journeys\n\n\n\nExplore what really matters to you and use your passion to change the world—that’s what Girl Scout Journeys are all about. \nGirl Scout Journeys are multi-session experiences in which girls dig deeper into their interests and use the skills they gain along the way to make a difference in their community. While badges show the world you’ve learned a new skill\, Journey awards say\, “I found a way to make a difference.” \nDuring a Journey\, Girl Scouts do hands-on activities\, connect with experts\, and take the lead on a Take Action project with their community. And once a Junior\, Cadette\, Senior\, or Ambassador completes their Journey\, they’re ready to drive lasting change in their communities by going for their Bronze\, Silver\, or Gold Award.
URL:https://greencastlesportsman.com/event/girl-scouts-troop-80161journey-workshop/
LOCATION:The Clubhouse\, 3260 Sportsmans Rd\, Greencastle\, PA\, 17225\, United States
ATTACH;FMTTYPE=image/jpeg:https://greencastlesportsman.com/wp-content/uploads/2022/04/girl-scouts-give.jpg
ORGANIZER;CN="Harshman":MAILTO:info@greencastlesportsman.com
END:VEVENT
BEGIN:VEVENT
DTSTART;TZID=America/Detroit:20221021T173000
DTEND;TZID=America/Detroit:20221021T203000
DTSTAMP:20260420T015905
CREATED:20220904T171321Z
LAST-MODIFIED:20220904T171321Z
UID:10001780-1666373400-1666384200@greencastlesportsman.com
SUMMARY:Girl Scouts Troop 80161Troop Meeting
DESCRIPTION:Our Mission\nGirl Scouting builds girls of courage\, confidence\, and character\, who make the world a better place. \n\n\n\n\nGirl Scout Promise \nOn my honor\, I will try:\nTo serve God* and my country\,\nTo help people at all times\,\nAnd to live by the Girl Scout Law. \n\n\n\n\nGirl Scout Law\nI will do my best to be\nhonest and fair\,\nfriendly and helpful\,\nconsiderate and caring\,\ncourageous and strong\, and\nresponsible for what I say and do\,\nand to respect myself and others\,\nrespect authority\, use resources wisely\,\nmake the world a better place\, and\nbe a sister to every Girl Scout.
URL:https://greencastlesportsman.com/event/girl-scouts-troop-80161troop-meeting/2022-10-21/
LOCATION:The Clubhouse\, 3260 Sportsmans Rd\, Greencastle\, PA\, 17225\, United States
ATTACH;FMTTYPE=image/jpeg:https://greencastlesportsman.com/wp-content/uploads/2022/04/girl-scouts-give.jpg
END:VEVENT
BEGIN:VEVENT
DTSTART;TZID=America/Detroit:20221021T080000
DTEND;TZID=America/Detroit:20221021T170000
DTSTAMP:20260420T015905
CREATED:20221017T115330Z
LAST-MODIFIED:20230505T124415Z
UID:10001369-1666339200-1666371600@greencastlesportsman.com
SUMMARY:Shooting Range Hours Through 05/14/23 DAILY 8AM-5PM
DESCRIPTION:October 16 – May 14   \n8:00 AM – 5:00 PM
URL:https://greencastlesportsman.com/event/shooting-range-hours-through-05-23-daily-8am-5pm/2022-10-21/
LOCATION:Rifle Range
ATTACH;FMTTYPE=image/png:https://greencastlesportsman.com/wp-content/uploads/2022/10/Beige-Black-Classy-Minimalist-Store-Hours-Flyer.png
END:VEVENT
BEGIN:VEVENT
DTSTART;TZID=America/Detroit:20221016T120000
DTEND;TZID=America/Detroit:20221016T180000
DTSTAMP:20260420T015905
CREATED:20220805T151833Z
LAST-MODIFIED:20220805T151833Z
UID:10001772-1665921600-1665943200@greencastlesportsman.com
SUMMARY:PRIVATE EVENT  @ Clubhouse
DESCRIPTION:
URL:https://greencastlesportsman.com/event/private-event-clubhouse-4/
LOCATION:The Clubhouse\, 3260 Sportsmans Rd\, Greencastle\, PA\, 17225\, United States
ATTACH;FMTTYPE=image/jpeg:https://greencastlesportsman.com/wp-content/uploads/2022/08/baby-shower-scaled.jpg
END:VEVENT
BEGIN:VEVENT
DTSTART;TZID=America/Detroit:20221016T080000
DTEND;TZID=America/Detroit:20221016T170000
DTSTAMP:20260420T015905
CREATED:20221017T115330Z
LAST-MODIFIED:20230505T124415Z
UID:10001368-1665907200-1665939600@greencastlesportsman.com
SUMMARY:Shooting Range Hours Through 05/14/23 DAILY 8AM-5PM
DESCRIPTION:October 16 – May 14   \n8:00 AM – 5:00 PM
URL:https://greencastlesportsman.com/event/shooting-range-hours-through-05-23-daily-8am-5pm/2022-10-16/
LOCATION:Rifle Range
ATTACH;FMTTYPE=image/png:https://greencastlesportsman.com/wp-content/uploads/2022/10/Beige-Black-Classy-Minimalist-Store-Hours-Flyer.png
END:VEVENT
BEGIN:VEVENT
DTSTART;TZID=America/Detroit:20221015T080000
DTEND;TZID=America/Detroit:20221015T190000
DTSTAMP:20260420T015905
CREATED:20220902T134439Z
LAST-MODIFIED:20220902T134439Z
UID:10001776-1665820800-1665860400@greencastlesportsman.com
SUMMARY:Shooting Range Hours Through 10/15
DESCRIPTION:
URL:https://greencastlesportsman.com/event/shooting-range-hours-through-10-15/2022-10-15/
LOCATION:Rifle Range
ATTACH;FMTTYPE=image/jpeg:https://greencastlesportsman.com/wp-content/uploads/2022/05/download.jpg
END:VEVENT
BEGIN:VEVENT
DTSTART;TZID=America/Detroit:20221011T080000
DTEND;TZID=America/Detroit:20221011T170000
DTSTAMP:20260420T015905
CREATED:20220505T125824Z
LAST-MODIFIED:20220505T125824Z
UID:10001719-1665475200-1665507600@greencastlesportsman.com
SUMMARY:FISHERY ENHANCEMENT CATCH AND RELEASE ONLY 2022
DESCRIPTION:FISHERY ENHANCEMENT\n** GOAL** Panel 2: Balanced pond.\nThis is the best situation for good fishing of both species. \nCATCH AND RELEASE ONLY – PANFISH – ALL BASS LARGER THAN 11″ – CATCH AND RELEASE ONLY \n\nThe first goal in the management of the fish population in any water body is to\nmatch the proper predator fish with the proper forage fish.\nOnce this is accomplished\, the object is to manage the forage fish population to produce large\nnumbers of young fish on which the predators can feed. \n\nResults of the fish population survey indicate that the fish population is what would\nbe classified as out of balance.  This the same situation that has occurred the last few years. \n\nIt appears that fishermen have been harvesting the larger bass\, 11”+\, from the lake.\nThese 11″+ bass are now protected from harvest and need to remain in the lake. \n\nContinuing to harvest these larger bass will have a continued negative impact on the overall fishery.\nThe predator fish must be maintained in larger numbers to prevent the forage fish from overpopulating.
URL:https://greencastlesportsman.com/event/panfish-enhancement-catch-and-release-only/2022-10-11/
LOCATION:PA
ATTACH;FMTTYPE=image/png:https://greencastlesportsman.com/wp-content/uploads/2022/05/image018.png
END:VEVENT
END:VCALENDAR