BEGIN:VCALENDAR
VERSION:2.0
PRODID:-//greencastlesportsman.com - ECPv6.3.5//NONSGML v1.0//EN
CALSCALE:GREGORIAN
METHOD:PUBLISH
X-WR-CALNAME:greencastlesportsman.com
X-ORIGINAL-URL:https://greencastlesportsman.com
X-WR-CALDESC:Events for greencastlesportsman.com
REFRESH-INTERVAL;VALUE=DURATION:PT1H
X-Robots-Tag:noindex
X-PUBLISHED-TTL:PT1H
BEGIN:VTIMEZONE
TZID:America/Detroit
BEGIN:DAYLIGHT
TZOFFSETFROM:-0500
TZOFFSETTO:-0400
TZNAME:EDT
DTSTART:20220313T070000
END:DAYLIGHT
BEGIN:STANDARD
TZOFFSETFROM:-0400
TZOFFSETTO:-0500
TZNAME:EST
DTSTART:20221106T060000
END:STANDARD
END:VTIMEZONE
BEGIN:VEVENT
DTSTART;TZID=America/Detroit:20221021T080000
DTEND;TZID=America/Detroit:20221021T170000
DTSTAMP:20260420T032906
CREATED:20221017T115330Z
LAST-MODIFIED:20230505T124415Z
UID:10001369-1666339200-1666371600@greencastlesportsman.com
SUMMARY:Shooting Range Hours Through 05/14/23 DAILY 8AM-5PM
DESCRIPTION:October 16 – May 14   \n8:00 AM – 5:00 PM
URL:https://greencastlesportsman.com/event/shooting-range-hours-through-05-23-daily-8am-5pm/2022-10-21/
LOCATION:Rifle Range
ATTACH;FMTTYPE=image/png:https://greencastlesportsman.com/wp-content/uploads/2022/10/Beige-Black-Classy-Minimalist-Store-Hours-Flyer.png
END:VEVENT
BEGIN:VEVENT
DTSTART;TZID=America/Detroit:20221016T120000
DTEND;TZID=America/Detroit:20221016T180000
DTSTAMP:20260420T032906
CREATED:20220805T151833Z
LAST-MODIFIED:20220805T151833Z
UID:10001772-1665921600-1665943200@greencastlesportsman.com
SUMMARY:PRIVATE EVENT  @ Clubhouse
DESCRIPTION:
URL:https://greencastlesportsman.com/event/private-event-clubhouse-4/
LOCATION:The Clubhouse\, 3260 Sportsmans Rd\, Greencastle\, PA\, 17225\, United States
ATTACH;FMTTYPE=image/jpeg:https://greencastlesportsman.com/wp-content/uploads/2022/08/baby-shower-scaled.jpg
END:VEVENT
BEGIN:VEVENT
DTSTART;TZID=America/Detroit:20221016T080000
DTEND;TZID=America/Detroit:20221016T170000
DTSTAMP:20260420T032906
CREATED:20221017T115330Z
LAST-MODIFIED:20230505T124415Z
UID:10001368-1665907200-1665939600@greencastlesportsman.com
SUMMARY:Shooting Range Hours Through 05/14/23 DAILY 8AM-5PM
DESCRIPTION:October 16 – May 14   \n8:00 AM – 5:00 PM
URL:https://greencastlesportsman.com/event/shooting-range-hours-through-05-23-daily-8am-5pm/2022-10-16/
LOCATION:Rifle Range
ATTACH;FMTTYPE=image/png:https://greencastlesportsman.com/wp-content/uploads/2022/10/Beige-Black-Classy-Minimalist-Store-Hours-Flyer.png
END:VEVENT
BEGIN:VEVENT
DTSTART;TZID=America/Detroit:20221015T080000
DTEND;TZID=America/Detroit:20221015T190000
DTSTAMP:20260420T032906
CREATED:20220902T134439Z
LAST-MODIFIED:20220902T134439Z
UID:10001776-1665820800-1665860400@greencastlesportsman.com
SUMMARY:Shooting Range Hours Through 10/15
DESCRIPTION:
URL:https://greencastlesportsman.com/event/shooting-range-hours-through-10-15/2022-10-15/
LOCATION:Rifle Range
ATTACH;FMTTYPE=image/jpeg:https://greencastlesportsman.com/wp-content/uploads/2022/05/download.jpg
END:VEVENT
BEGIN:VEVENT
DTSTART;TZID=America/Detroit:20221011T080000
DTEND;TZID=America/Detroit:20221011T170000
DTSTAMP:20260420T032906
CREATED:20220505T125824Z
LAST-MODIFIED:20220505T125824Z
UID:10001719-1665475200-1665507600@greencastlesportsman.com
SUMMARY:FISHERY ENHANCEMENT CATCH AND RELEASE ONLY 2022
DESCRIPTION:FISHERY ENHANCEMENT\n** GOAL** Panel 2: Balanced pond.\nThis is the best situation for good fishing of both species. \nCATCH AND RELEASE ONLY – PANFISH – ALL BASS LARGER THAN 11″ – CATCH AND RELEASE ONLY \n\nThe first goal in the management of the fish population in any water body is to\nmatch the proper predator fish with the proper forage fish.\nOnce this is accomplished\, the object is to manage the forage fish population to produce large\nnumbers of young fish on which the predators can feed. \n\nResults of the fish population survey indicate that the fish population is what would\nbe classified as out of balance.  This the same situation that has occurred the last few years. \n\nIt appears that fishermen have been harvesting the larger bass\, 11”+\, from the lake.\nThese 11″+ bass are now protected from harvest and need to remain in the lake. \n\nContinuing to harvest these larger bass will have a continued negative impact on the overall fishery.\nThe predator fish must be maintained in larger numbers to prevent the forage fish from overpopulating.
URL:https://greencastlesportsman.com/event/panfish-enhancement-catch-and-release-only/2022-10-11/
LOCATION:PA
ATTACH;FMTTYPE=image/png:https://greencastlesportsman.com/wp-content/uploads/2022/05/image018.png
END:VEVENT
BEGIN:VEVENT
DTSTART;TZID=America/Detroit:20221009T160000
DTEND;TZID=America/Detroit:20221009T180000
DTSTAMP:20260420T032906
CREATED:20220926T145645Z
LAST-MODIFIED:20220926T145645Z
UID:10001367-1665331200-1665338400@greencastlesportsman.com
SUMMARY:ARCHERY CLUB MEETING
DESCRIPTION:ARCHERY CLUB MEETING
URL:https://greencastlesportsman.com/event/archery-club-meeting-2/
LOCATION:The Clubhouse\, 3260 Sportsmans Rd\, Greencastle\, PA\, 17225\, United States
ATTACH;FMTTYPE=image/jpeg:https://greencastlesportsman.com/wp-content/uploads/2021/10/Activity-Seals-04-e1664204163445.jpg
END:VEVENT
BEGIN:VEVENT
DTSTART;TZID=America/Detroit:20221008T103000
DTEND;TZID=America/Detroit:20221008T190000
DTSTAMP:20260420T032906
CREATED:20220516T151225Z
LAST-MODIFIED:20220516T151225Z
UID:10001316-1665225000-1665255600@greencastlesportsman.com
SUMMARY:GSA Horseshoe Tournament FIRST TO 21**open to public**
DESCRIPTION:All Tournaments – Round Robin A&B Brackets \nRandom Partner Draw each Bracket \n$20.00 Entry Fee – Registration by 11am \nShoes Fly @ Noon \n$5.00 Random Round Robin afterwards (time permitting) \n50/50 drawing\, Pull Tabs\, Horseshoe Raffle \nFood\, Water\, Soda and Gatorade all day starting by 11:30 \nBYOB\, Shoes\, Canopies\, Chairs \n**Formats and Pay Outs subject to change depending on number of entries**
URL:https://greencastlesportsman.com/event/gsa-horseshoe-tournament-first-to-21open-to-public/
LOCATION:GSA Horseshoe Complex\, 3260 Sportsmans Road\, Greencastle\, PA\, 17225
ATTACH;FMTTYPE=image/jpeg:https://greencastlesportsman.com/wp-content/uploads/2022/05/Activity-Seals-02-e1652713177592.jpg
ORGANIZER;CN="Greg Reasner":MAILTO:horseshoe@greencastlesportsman.com
END:VEVENT
BEGIN:VEVENT
DTSTART;TZID=America/Detroit:20221008T100000
DTEND;TZID=America/Detroit:20221008T120000
DTSTAMP:20260420T032906
CREATED:20220904T170846Z
LAST-MODIFIED:20220926T131917Z
UID:10001779-1665223200-1665230400@greencastlesportsman.com
SUMMARY:Girl Scouts Troop 80161Archery Badge
DESCRIPTION:Picture this: You nock (or place) an arrow onto a bow\, hook your fingers around the string\, draw it back\, eye your target\, and release! Bull’s-eye! Archery is an exciting sport that takes strength\, focus\, good form\, and practice. \nSteps\n1. Get to know archery equipment\n2. Learn about archery safety\n3. Practice archery before yougo on a range\n4. Shoot on an archery range\n5. Create an archery challenge \nPurpose\nWhen I’ve earned this badge\, I’ll know how to take aim outdoors with my archery skills
URL:https://greencastlesportsman.com/event/girl-scouts-troop-80161archery-badge/
LOCATION:The Clubhouse\, 3260 Sportsmans Rd\, Greencastle\, PA\, 17225\, United States
ATTACH;FMTTYPE=image/jpeg:https://greencastlesportsman.com/wp-content/uploads/2022/04/girl-scouts-give.jpg
ORGANIZER;CN="Harshman":MAILTO:info@greencastlesportsman.com
END:VEVENT
BEGIN:VEVENT
DTSTART;TZID=America/Detroit:20221006T190000
DTEND;TZID=America/Detroit:20221006T210000
DTSTAMP:20260420T032906
CREATED:20210727T193206Z
LAST-MODIFIED:20211001T134653Z
UID:10001519-1665082800-1665090000@greencastlesportsman.com
SUMMARY:Board of Director's Meeting
DESCRIPTION:
URL:https://greencastlesportsman.com/event/oct-2021-bod-meeting/2022-10-06/
LOCATION:The Clubhouse\, 3260 Sportsmans Rd\, Greencastle\, PA\, 17225\, United States
ATTACH;FMTTYPE=image/jpeg:https://greencastlesportsman.com/wp-content/uploads/2021/07/MembersMeeting3-1-scaled.jpg
END:VEVENT
BEGIN:VEVENT
DTSTART;TZID=America/Detroit:20221002T070000
DTEND;TZID=America/Detroit:20221002T190000
DTSTAMP:20260420T032906
CREATED:20211206T171247Z
LAST-MODIFIED:20220302T133947Z
UID:10001621-1664694000-1664737200@greencastlesportsman.com
SUMMARY:ATA SHOOT
DESCRIPTION:SINGLES START AT 9:00AM AND CLOSE AT 12:00PM (NOON) \nENTRIES CLOSE FOR HANDICAP AND DOUBLES AT 3:00PM \nEVENT 1 – 100 SINGLES w/ LEWIS OPTION\nTrophies to Classes A\, B\, C\, and D\, Veteran\, Lady\, and Junior\nEVENT 2 – 100 HANDICAPS w/ LEWIS AND CASTLE 50 OPTIONS\nTrophies to Yardage Groups (19-21.5)\, (22-24.5) & (25-27)\, Veteran\, Lady\, and Junior\nEVENT 3 – 50 PAIR DOUBLES\nTrophy to High Gun\nTrophy to High Overall (SUM of Events 1\, 2\, and 3) \nMinimum of three (3) Entries per class\, category\, or yardage group are required for trophies to be awarded \nTARGET FEES $25 PER EVENT – DAILY ATA FEE $3 – PSSA FEE $2 \nLEWIS OPTION $10 – CASTLE 50 OPTION $2 \nAny questions\, call Joe Carbaugh 717-597-7280
URL:https://greencastlesportsman.com/event/1568/2022-10-02/
LOCATION:The Clubhouse\, 3260 Sportsmans Rd\, Greencastle\, PA\, 17225\, United States
ATTACH;FMTTYPE=image/jpeg:https://greencastlesportsman.com/wp-content/uploads/2021/10/0830shotgunclays.jpg
ORGANIZER;CN="Joe Carbaugh":MAILTO:1buckhunter@embarqmail.com
END:VEVENT
BEGIN:VEVENT
DTSTART;TZID=America/Detroit:20221001T080000
DTEND;TZID=America/Detroit:20221001T230000
DTSTAMP:20260420T032906
CREATED:20220610T135856Z
LAST-MODIFIED:20220711T134701Z
UID:10001756-1664611200-1664665200@greencastlesportsman.com
SUMMARY:PRIVATE EVENT @ CLUBHOUSE
DESCRIPTION:
URL:https://greencastlesportsman.com/event/pending-approval-private-event/
LOCATION:The Clubhouse\, 3260 Sportsmans Rd\, Greencastle\, PA\, 17225\, United States
ATTACH;FMTTYPE=image/jpeg:https://greencastlesportsman.com/wp-content/uploads/2022/05/wedding-scaled-e1654261753666.jpg
END:VEVENT
BEGIN:VEVENT
DTSTART;TZID=America/Detroit:20220930T180000
DTEND;TZID=America/Detroit:20220930T193000
DTSTAMP:20260420T032906
CREATED:20220926T132505Z
LAST-MODIFIED:20220926T132505Z
UID:10001358-1664560800-1664566200@greencastlesportsman.com
SUMMARY:Friday Evening Trap Practice
DESCRIPTION:Friday Evening Trap Practice – fees apply for clay birds  \nSingles –     $3.50 @ 25 targets \nHandicap-   $3.50 @ 25 targets \nDoubles-     $7.00 @ 50 targets \n* OPEN TO THE PUBLIC * \nshells are not available at this time – bring what you can find !! \nSTARTING TIME 6:00 PM \nAT THE GREENCASTLE SPORTSMEN’S CLUB \ncontact Joe Carbaugh @ 717.658.0265 or Matt Mohler @ 717.816.4326 with questions
URL:https://greencastlesportsman.com/event/friday-evening-trap-practice-2/2022-09-30/
LOCATION:The Clubhouse\, 3260 Sportsmans Rd\, Greencastle\, PA\, 17225\, United States
ATTACH;FMTTYPE=image/jpeg:https://greencastlesportsman.com/wp-content/uploads/2022/02/trap-practice.jpg
ORGANIZER;CN="Joe Carbaugh":MAILTO:1buckhunter@embarqmail.com
END:VEVENT
BEGIN:VEVENT
DTSTART;TZID=America/Detroit:20220927T080000
DTEND;TZID=America/Detroit:20220927T170000
DTSTAMP:20260420T032906
CREATED:20220505T125824Z
LAST-MODIFIED:20220505T125824Z
UID:10001718-1664265600-1664298000@greencastlesportsman.com
SUMMARY:FISHERY ENHANCEMENT CATCH AND RELEASE ONLY 2022
DESCRIPTION:FISHERY ENHANCEMENT\n** GOAL** Panel 2: Balanced pond.\nThis is the best situation for good fishing of both species. \nCATCH AND RELEASE ONLY – PANFISH – ALL BASS LARGER THAN 11″ – CATCH AND RELEASE ONLY \n\nThe first goal in the management of the fish population in any water body is to\nmatch the proper predator fish with the proper forage fish.\nOnce this is accomplished\, the object is to manage the forage fish population to produce large\nnumbers of young fish on which the predators can feed. \n\nResults of the fish population survey indicate that the fish population is what would\nbe classified as out of balance.  This the same situation that has occurred the last few years. \n\nIt appears that fishermen have been harvesting the larger bass\, 11”+\, from the lake.\nThese 11″+ bass are now protected from harvest and need to remain in the lake. \n\nContinuing to harvest these larger bass will have a continued negative impact on the overall fishery.\nThe predator fish must be maintained in larger numbers to prevent the forage fish from overpopulating.
URL:https://greencastlesportsman.com/event/panfish-enhancement-catch-and-release-only/2022-09-27/
LOCATION:PA
ATTACH;FMTTYPE=image/png:https://greencastlesportsman.com/wp-content/uploads/2022/05/image018.png
END:VEVENT
BEGIN:VEVENT
DTSTART;TZID=America/Detroit:20220923T180000
DTEND;TZID=America/Detroit:20220923T193000
DTSTAMP:20260420T032906
CREATED:20220926T132505Z
LAST-MODIFIED:20220926T132505Z
UID:10001357-1663956000-1663961400@greencastlesportsman.com
SUMMARY:Friday Evening Trap Practice
DESCRIPTION:Friday Evening Trap Practice – fees apply for clay birds  \nSingles –     $3.50 @ 25 targets \nHandicap-   $3.50 @ 25 targets \nDoubles-     $7.00 @ 50 targets \n* OPEN TO THE PUBLIC * \nshells are not available at this time – bring what you can find !! \nSTARTING TIME 6:00 PM \nAT THE GREENCASTLE SPORTSMEN’S CLUB \ncontact Joe Carbaugh @ 717.658.0265 or Matt Mohler @ 717.816.4326 with questions
URL:https://greencastlesportsman.com/event/friday-evening-trap-practice-2/2022-09-23/
LOCATION:The Clubhouse\, 3260 Sportsmans Rd\, Greencastle\, PA\, 17225\, United States
ATTACH;FMTTYPE=image/jpeg:https://greencastlesportsman.com/wp-content/uploads/2022/02/trap-practice.jpg
ORGANIZER;CN="Joe Carbaugh":MAILTO:1buckhunter@embarqmail.com
END:VEVENT
BEGIN:VEVENT
DTSTART;TZID=America/Detroit:20220923T173000
DTEND;TZID=America/Detroit:20220923T213000
DTSTAMP:20260420T032906
CREATED:20220904T165819Z
LAST-MODIFIED:20220904T165819Z
UID:10001778-1663954200-1663968600@greencastlesportsman.com
SUMMARY:Girl Scouts Troop 80161 Outdoor Badge
DESCRIPTION:Our Mission\nGirl Scouting builds girls of courage\, confidence\, and character\, who make the world a better place. \n\n\n\n\nGirl Scout Promise \nOn my honor\, I will try:\nTo serve God* and my country\,\nTo help people at all times\,\nAnd to live by the Girl Scout Law. \n\n\n\n\nGirl Scout Law\nI will do my best to be\n    honest and fair\,\nfriendly and helpful\,\nconsiderate and caring\,\ncourageous and strong\, and\nresponsible for what I say and do\,\nand to \nrespect myself and others\,\nrespect authority\,\nuse resources wisely\,\nmake the world a better place\, and\nbe a sister to every Girl Scout.
URL:https://greencastlesportsman.com/event/girl-scouts-troop-80161-outdoor-badge/2022-09-23/
LOCATION:GSA Horseshoe Complex\, 3260 Sportsmans Road\, Greencastle\, PA\, 17225
ATTACH;FMTTYPE=image/jpeg:https://greencastlesportsman.com/wp-content/uploads/2022/04/girl-scouts-give.jpg
ORGANIZER;CN="Harshman":MAILTO:info@greencastlesportsman.com
END:VEVENT
BEGIN:VEVENT
DTSTART;TZID=America/Detroit:20220923T160000
DTEND;TZID=America/Detroit:20220924T120000
DTSTAMP:20260420T032906
CREATED:20220803T185042Z
LAST-MODIFIED:20220805T144412Z
UID:10001342-1663948800-1664020800@greencastlesportsman.com
SUMMARY:Pack 13 Cub Scouts Fall Campout
DESCRIPTION:Fall campout at Lake and Pavilion from Friday September 23rd (4:00pm) – Saturday September 24th (12:00pm).
URL:https://greencastlesportsman.com/event/pending-pack-13-cub-scouts-fall-campout/
LOCATION:Lake Pavilion
ATTACH;FMTTYPE=image/jpeg:https://greencastlesportsman.com/wp-content/uploads/2022/04/CAMPING.jpg
END:VEVENT
BEGIN:VEVENT
DTSTART;TZID=America/Detroit:20220922T190000
DTEND;TZID=America/Detroit:20220922T200000
DTSTAMP:20260420T032906
CREATED:20210727T192828Z
LAST-MODIFIED:20241002T193746Z
UID:10001446-1663873200-1663876800@greencastlesportsman.com
SUMMARY:Membership Meeting
DESCRIPTION:
URL:https://greencastlesportsman.com/event/membership-meeting-4/2022-09-22/
LOCATION:The Clubhouse\, 3260 Sportsmans Rd\, Greencastle\, PA\, 17225\, United States
ATTACH;FMTTYPE=image/jpeg:https://greencastlesportsman.com/wp-content/uploads/2021/07/MembersMeeting2.jpg
END:VEVENT
BEGIN:VEVENT
DTSTART;TZID=America/Detroit:20220917T190000
DTEND;TZID=America/Detroit:20220917T220000
DTSTAMP:20260420T032906
CREATED:20220914T123216Z
LAST-MODIFIED:20220914T123216Z
UID:10001353-1663441200-1663452000@greencastlesportsman.com
SUMMARY:S’MORES FUNDRAISER  Greencastle Girl Scout Troop 80161
DESCRIPTION:We are selling SMORES at the Greencastle Sportsman’s Association Friday night from 7pm-10pm during their Catfish Brannigan! Proceeds will benefit Troop 80161 activities and events for the 2022-2023 fall session. \nCOME DOWN to the LAKE PAVILION for a TREAT and taunt the fishers !! (in good fun)
URL:https://greencastlesportsman.com/event/smores-fundraiser-greencastle-girl-scout-troop-80161/
LOCATION:Lake Pavilion
ATTACH;FMTTYPE=image/jpeg:https://greencastlesportsman.com/wp-content/uploads/2022/06/salted-caramel-smores-FT-RECIPE0820.jpg
ORGANIZER;CN="Harshman":MAILTO:info@greencastlesportsman.com
END:VEVENT
BEGIN:VEVENT
DTSTART;TZID=America/Detroit:20220917T180000
DTEND;TZID=America/Detroit:20220917T235900
DTSTAMP:20260420T032906
CREATED:20220711T142029Z
LAST-MODIFIED:20220909T122005Z
UID:10001767-1663437600-1663459140@greencastlesportsman.com
SUMMARY:CATFISH BRANNIGAN @ 700PM  End of Summer-MEMBERS ONLY
DESCRIPTION:SETUP BEGINS AT 6PM – MEMBERSHIP CARDS WILL BE CHECKED \nLINES IN @ 700PM – 3 FISHING RODS PER PARTICIPANT \nSUGGESTED DONATION –$10 per ADULT – kids under 12 FREE – 13-17 $5 \nBIG FISH / SMALL FISH – $5 ENTRY (70% payout to big fish – 30% to small fish) \nADD AN INCH / TAKE AN INCH – $2 per inch / 3 inches for $5 \nfor $5 add three inches to your catch to lock up big fish OR \nfor $5 take three inches from your competitors fish to knock them down !! \n50/50 $5 PER 9 TICKETS \n*NO LIMIT* CATFISH PER PAYING PARTICIPANT (catch it and take it) ! \nNO GUESTS – NO GUESTS – NO GUESTS \nLAKE CLOSED FOR COPS UP TO 4PM \nLAKE CLOSED TO CATFISHING SEPT 11 – SEPT 16
URL:https://greencastlesportsman.com/event/catfish-brannigan/
LOCATION:PA
ATTACH;FMTTYPE=image/jpeg:https://greencastlesportsman.com/wp-content/uploads/2022/07/catfish-art.jpg
END:VEVENT
BEGIN:VEVENT
DTSTART;TZID=America/Detroit:20220917T103000
DTEND;TZID=America/Detroit:20220917T190000
DTSTAMP:20260420T032906
CREATED:20220516T150349Z
LAST-MODIFIED:20220516T150551Z
UID:10001754-1663410600-1663441200@greencastlesportsman.com
SUMMARY:GSA Horseshoe TournamentPARTNER DRAW **open to public**
DESCRIPTION:All Tournaments – Round Robin A&B Brackets \nRandom Partner Draw each Bracket \n$20.00 Entry Fee – Registration by 11am \nShoes Fly @ Noon \n$5.00 Random Round Robin afterwards (time permitting) \n50/50 drawing\, Pull Tabs \, Horseshoe Raffle \nFood\, Water\, Soda and Gatorade all day starting by 11:30 \nBYOB\, Shoes\, Canopies\, Chairs \n**Formats and Pay Outs subject to change depending on number of entries**
URL:https://greencastlesportsman.com/event/gsa-horseshoe-tournament-open-to-public/2022-09-17/
LOCATION:GSA Horseshoe Complex\, 3260 Sportsmans Road\, Greencastle\, PA\, 17225
ATTACH;FMTTYPE=image/jpeg:https://greencastlesportsman.com/wp-content/uploads/2022/05/Activity-Seals-02-e1652713177592.jpg
ORGANIZER;CN="Greg Reasner":MAILTO:horseshoe@greencastlesportsman.com
END:VEVENT
BEGIN:VEVENT
DTSTART;TZID=America/Detroit:20220917T080000
DTEND;TZID=America/Detroit:20220917T160000
DTSTAMP:20260420T032906
CREATED:20220909T123535Z
LAST-MODIFIED:20220909T123535Z
UID:10001352-1663401600-1663430400@greencastlesportsman.com
SUMMARY:LAKE CLOSED - FISHING WITH COPS 8am-4pm
DESCRIPTION:FISHING WITH A COP – LAKE
URL:https://greencastlesportsman.com/event/lake-closed-fishing-with-cops-8am-4pm/
LOCATION:LAKE
ATTACH;FMTTYPE=image/jpeg:https://greencastlesportsman.com/wp-content/uploads/2022/06/open-closed.jpg
END:VEVENT
BEGIN:VEVENT
DTSTART;TZID=America/Detroit:20220917T080000
DTEND;TZID=America/Detroit:20220917T160000
DTSTAMP:20260420T032906
CREATED:20220711T143818Z
LAST-MODIFIED:20220711T150453Z
UID:10001330-1663401600-1663430400@greencastlesportsman.com
SUMMARY:Pennsylvania Hunter-Trapper Education  @ Mercersburg
DESCRIPTION:This is a six-hour training class required by law for all first-time hunters and trappers before they can buy a license. \nYou must pass a certification exam at the end of the class to complete this training. \nMeeting on: Saturday\, Sept 17\, 2022 \nTime: 8:00am – 3:00pm \nMERCERSBURG SPORTSMAN ASSOC. \n12143 DICKEYS ROAD\nMERCERSBURG\, PA 17236 \nPennsylvania Game Commission\n www.pgc.pa.gov
URL:https://greencastlesportsman.com/event/pennsylvania-hunter-trapper-education-mercersburg/
LOCATION:PA
ATTACH;FMTTYPE=image/jpeg:https://greencastlesportsman.com/wp-content/uploads/2022/02/HUNTER-SAFETY-COURSE-OHIO-1.jpg
END:VEVENT
BEGIN:VEVENT
DTSTART;TZID=America/Detroit:20220917T080000
DTEND;TZID=America/Detroit:20220917T160000
DTSTAMP:20260420T032906
CREATED:20220711T140952Z
LAST-MODIFIED:20220914T115829Z
UID:10001766-1663401600-1663430400@greencastlesportsman.com
SUMMARY:FISHING WITH A COP - LAKE
DESCRIPTION:The Pennsylvania State Police\, in conjunction with local law enforcement\, host the catch-and-release fishing event. \nHeld at the Greencastle Sportsman’s Association\, the event pairs children with police who mentor them on fishing and fishing techniques. \nThe participants learn how to bait a hook\, how to cast\, how to release fish safely back into the water as well as many fishing tips from police. \nYouth between the ages of 7-17 /  9:30 a.m. to 2:30 p.m with a rain date of September 18\, 2022. \nThe daylong event is a way for children to get to know local law enforcement in a positive way. \nContact Officer Jim Bradley at 717-597-9506 ext. 244 or send an email to jbradley@greencastlepa.gov for more information. \nRegistration limited to the first 75 applicants.
URL:https://greencastlesportsman.com/event/fishing-with-a-cop-lake/
LOCATION:LAKE
ATTACH;FMTTYPE=image/png:https://greencastlesportsman.com/wp-content/uploads/2022/07/fish_cops.png
END:VEVENT
BEGIN:VEVENT
DTSTART;TZID=America/Detroit:20220916T180000
DTEND;TZID=America/Detroit:20220916T193000
DTSTAMP:20260420T032906
CREATED:20220926T132505Z
LAST-MODIFIED:20220926T132505Z
UID:10001356-1663351200-1663356600@greencastlesportsman.com
SUMMARY:Friday Evening Trap Practice
DESCRIPTION:Friday Evening Trap Practice – fees apply for clay birds  \nSingles –     $3.50 @ 25 targets \nHandicap-   $3.50 @ 25 targets \nDoubles-     $7.00 @ 50 targets \n* OPEN TO THE PUBLIC * \nshells are not available at this time – bring what you can find !! \nSTARTING TIME 6:00 PM \nAT THE GREENCASTLE SPORTSMEN’S CLUB \ncontact Joe Carbaugh @ 717.658.0265 or Matt Mohler @ 717.816.4326 with questions
URL:https://greencastlesportsman.com/event/friday-evening-trap-practice-2/2022-09-16/
LOCATION:The Clubhouse\, 3260 Sportsmans Rd\, Greencastle\, PA\, 17225\, United States
ATTACH;FMTTYPE=image/jpeg:https://greencastlesportsman.com/wp-content/uploads/2022/02/trap-practice.jpg
ORGANIZER;CN="Joe Carbaugh":MAILTO:1buckhunter@embarqmail.com
END:VEVENT
BEGIN:VEVENT
DTSTART;TZID=America/Detroit:20220916T000000
DTEND;TZID=America/Detroit:20220916T233000
DTSTAMP:20260420T032906
CREATED:20220909T122901Z
LAST-MODIFIED:20220909T122901Z
UID:10001351-1663286400-1663371000@greencastlesportsman.com
SUMMARY:NO CATFISHING THIS WEEK LAKE CLOSED TO CATFISHING
DESCRIPTION:NO CATFISHING THIS WEEK \nFISHING WITH COPS (KIDS) SATURDAY 17th – CLOSED EVENT \nFALL CATFISH BRANNIGAN SATURDAY 17th – MEMBERS ONLY
URL:https://greencastlesportsman.com/event/no-catfishing-this-week-lake-closed-to-catfishing-2/2022-09-16/
LOCATION:LAKE
ATTACH;FMTTYPE=image/jpeg:https://greencastlesportsman.com/wp-content/uploads/2022/06/NO-CATFISHING-e1654262578963.jpg
ORGANIZER;CN="Harshman":MAILTO:info@greencastlesportsman.com
END:VEVENT
BEGIN:VEVENT
DTSTART;TZID=America/Detroit:20220915T000000
DTEND;TZID=America/Detroit:20220915T233000
DTSTAMP:20260420T032906
CREATED:20220909T122901Z
LAST-MODIFIED:20220909T122901Z
UID:10001350-1663200000-1663284600@greencastlesportsman.com
SUMMARY:NO CATFISHING THIS WEEK LAKE CLOSED TO CATFISHING
DESCRIPTION:NO CATFISHING THIS WEEK \nFISHING WITH COPS (KIDS) SATURDAY 17th – CLOSED EVENT \nFALL CATFISH BRANNIGAN SATURDAY 17th – MEMBERS ONLY
URL:https://greencastlesportsman.com/event/no-catfishing-this-week-lake-closed-to-catfishing-2/2022-09-15/
LOCATION:LAKE
ATTACH;FMTTYPE=image/jpeg:https://greencastlesportsman.com/wp-content/uploads/2022/06/NO-CATFISHING-e1654262578963.jpg
ORGANIZER;CN="Harshman":MAILTO:info@greencastlesportsman.com
END:VEVENT
BEGIN:VEVENT
DTSTART;TZID=America/Detroit:20220914T000000
DTEND;TZID=America/Detroit:20220914T233000
DTSTAMP:20260420T032906
CREATED:20220909T122901Z
LAST-MODIFIED:20220909T122901Z
UID:10001349-1663113600-1663198200@greencastlesportsman.com
SUMMARY:NO CATFISHING THIS WEEK LAKE CLOSED TO CATFISHING
DESCRIPTION:NO CATFISHING THIS WEEK \nFISHING WITH COPS (KIDS) SATURDAY 17th – CLOSED EVENT \nFALL CATFISH BRANNIGAN SATURDAY 17th – MEMBERS ONLY
URL:https://greencastlesportsman.com/event/no-catfishing-this-week-lake-closed-to-catfishing-2/2022-09-14/
LOCATION:LAKE
ATTACH;FMTTYPE=image/jpeg:https://greencastlesportsman.com/wp-content/uploads/2022/06/NO-CATFISHING-e1654262578963.jpg
ORGANIZER;CN="Harshman":MAILTO:info@greencastlesportsman.com
END:VEVENT
BEGIN:VEVENT
DTSTART;TZID=America/Detroit:20220913T080000
DTEND;TZID=America/Detroit:20220913T170000
DTSTAMP:20260420T032906
CREATED:20220505T125824Z
LAST-MODIFIED:20220505T125824Z
UID:10001717-1663056000-1663088400@greencastlesportsman.com
SUMMARY:FISHERY ENHANCEMENT CATCH AND RELEASE ONLY 2022
DESCRIPTION:FISHERY ENHANCEMENT\n** GOAL** Panel 2: Balanced pond.\nThis is the best situation for good fishing of both species. \nCATCH AND RELEASE ONLY – PANFISH – ALL BASS LARGER THAN 11″ – CATCH AND RELEASE ONLY \n\nThe first goal in the management of the fish population in any water body is to\nmatch the proper predator fish with the proper forage fish.\nOnce this is accomplished\, the object is to manage the forage fish population to produce large\nnumbers of young fish on which the predators can feed. \n\nResults of the fish population survey indicate that the fish population is what would\nbe classified as out of balance.  This the same situation that has occurred the last few years. \n\nIt appears that fishermen have been harvesting the larger bass\, 11”+\, from the lake.\nThese 11″+ bass are now protected from harvest and need to remain in the lake. \n\nContinuing to harvest these larger bass will have a continued negative impact on the overall fishery.\nThe predator fish must be maintained in larger numbers to prevent the forage fish from overpopulating.
URL:https://greencastlesportsman.com/event/panfish-enhancement-catch-and-release-only/2022-09-13/
LOCATION:PA
ATTACH;FMTTYPE=image/png:https://greencastlesportsman.com/wp-content/uploads/2022/05/image018.png
END:VEVENT
BEGIN:VEVENT
DTSTART;TZID=America/Detroit:20220913T000000
DTEND;TZID=America/Detroit:20220913T233000
DTSTAMP:20260420T032906
CREATED:20220909T122901Z
LAST-MODIFIED:20220909T122901Z
UID:10001348-1663027200-1663111800@greencastlesportsman.com
SUMMARY:NO CATFISHING THIS WEEK LAKE CLOSED TO CATFISHING
DESCRIPTION:NO CATFISHING THIS WEEK \nFISHING WITH COPS (KIDS) SATURDAY 17th – CLOSED EVENT \nFALL CATFISH BRANNIGAN SATURDAY 17th – MEMBERS ONLY
URL:https://greencastlesportsman.com/event/no-catfishing-this-week-lake-closed-to-catfishing-2/2022-09-13/
LOCATION:LAKE
ATTACH;FMTTYPE=image/jpeg:https://greencastlesportsman.com/wp-content/uploads/2022/06/NO-CATFISHING-e1654262578963.jpg
ORGANIZER;CN="Harshman":MAILTO:info@greencastlesportsman.com
END:VEVENT
BEGIN:VEVENT
DTSTART;TZID=America/Detroit:20220912T160000
DTEND;TZID=America/Detroit:20220912T203000
DTSTAMP:20260420T032906
CREATED:20220302T153955Z
LAST-MODIFIED:20220317T121941Z
UID:10001668-1662998400-1663014600@greencastlesportsman.com
SUMMARY:MONDAY NIGHT 3D
DESCRIPTION:Monday night 3D shoots held weekly.\nCasual Registration 4:00-6:30\n15 Rhinehart Targets (2 shots per target)\nOpen to the public\, and all skill levels\nAdults $5\n12-17 $3\nUnder 11 free\nFood available
URL:https://greencastlesportsman.com/event/monday-night-3d/2022-09-12/
LOCATION:PA
ATTACH;FMTTYPE=image/jpeg:https://greencastlesportsman.com/wp-content/uploads/2022/03/cheadhunters-3d-archery.jpg
END:VEVENT
END:VCALENDAR